BEGIN:VCALENDAR
VERSION:2.0
PRODID:-//Patriot Guard Riders - ECPv5.6.0//NONSGML v1.0//EN
CALSCALE:GREGORIAN
METHOD:PUBLISH
X-WR-CALNAME:Patriot Guard Riders
X-ORIGINAL-URL:https://www.patriotguard.org
X-WR-CALDESC:Events for Patriot Guard Riders
BEGIN:VTIMEZONE
TZID:America/New_York
BEGIN:DAYLIGHT
TZOFFSETFROM:-0500
TZOFFSETTO:-0400
TZNAME:EDT
DTSTART:20160313T070000
END:DAYLIGHT
BEGIN:STANDARD
TZOFFSETFROM:-0400
TZOFFSETTO:-0500
TZNAME:EST
DTSTART:20161106T060000
END:STANDARD
END:VTIMEZONE
BEGIN:VEVENT
DTSTART;TZID=America/New_York:20160729T090000
DTEND;TZID=America/New_York:20160729T110000
DTSTAMP:20210512T153108
CREATED:20160729T130000Z
LAST-MODIFIED:20191201T025923Z
UID:302161-1469782800-1469790000@www.patriotguard.org
SUMMARY:Pvt Colman Tommy Boyles\, US Army Veteran (Vietnam Era)\, 60
DESCRIPTION:EXTREME SHORT NOTICE!! \nPvt Colman Tommy Boyles\, US Army Veteran (Vietnam Era)\, 60\,  Atlanta\, GA\, 29 July 16 \nThe Patriot Guard Riders have been requested to stand in honor of the life and service of Pvt Colman Tommy Boyles. We have told the family it will be our honor to do so. \nPvt Boyles honorably served our country for one year during the Vietnam War Era. He was then honorably discharged.  His sister has asked us to stand for him here in Georgia as we did for her father two years ago in Florida. \nPlease view and leave condolences here:\nhttp://www.parnickjenningsfuneral.com/book-of-memories/2653973/Boyles-Colman/service-details.php \nThis will be a flagline only mission to be held at graveside with military honors. As i understand it this is a VERY large cemetery. Family says when you come in take a right and everytime you can turn\, turn right and should get you there. If its more complicated I will have someone at the front gate directing people. \nService Staging:\n10:30am Friday\, July 29\nWestview Cemetery\n1680 Westview Drive SW\nAtlanta\, GA 30310 \n\n RCIC:\nJeremy “Shaggy” Shirah\nGeorgia State Captain\nSoutheast Region\njeremyshirah@yahoo.com\n770-940-2853 \nFlag Support:\nPat White \nTodd “Wordsmith” Moyer\nAssistant State Captain\, SW Region\nPatriot Guard Riders of Georgia
URL:https://www.patriotguard.org/mission/pvt-colman-tommy-boyles-us-army-veteran-vietnam-era-60/
END:VEVENT
END:VCALENDAR