BEGIN:VCALENDAR
VERSION:2.0
PRODID:-//Patriot Guard Riders - ECPv5.3.2.1//NONSGML v1.0//EN
CALSCALE:GREGORIAN
METHOD:PUBLISH
X-WR-CALNAME:Patriot Guard Riders
X-ORIGINAL-URL:https://www.patriotguard.org
X-WR-CALDESC:Events for Patriot Guard Riders
BEGIN:VTIMEZONE
TZID:America/New_York
BEGIN:DAYLIGHT
TZOFFSETFROM:-0500
TZOFFSETTO:-0400
TZNAME:EDT
DTSTART:20190310T070000
END:DAYLIGHT
BEGIN:STANDARD
TZOFFSETFROM:-0400
TZOFFSETTO:-0500
TZNAME:EST
DTSTART:20191103T060000
END:STANDARD
END:VTIMEZONE
BEGIN:VEVENT
DTSTART;VALUE=DATE:20190612
DTEND;VALUE=DATE:20190613
DTSTAMP:20210405T075319
CREATED:20190611T003807Z
LAST-MODIFIED:20190611T003807Z
UID:164348-1560297600-1560383999@www.patriotguard.org
SUMMARY:Prescott " Dolly " Metcalf
DESCRIPTION:Honor Mission\nPrescott ” Dolly ” Metcalf\, Veteran\, LEO\nUSA – WW II\nCharlotte\, North Carolina – 06-12-19\n\n\n\n\nABOUT THE MISSION: \nThe family of Prescott Metcalf has ask the Patriot Guard to stand for their hero\, as he once stood for us.\nMr. Metcalf was artillery in the Army during WW II. He use to tell a story to his family that he shot his cannon one time and an officer came over and said cease fire\, the war is over. So he would say he fired the shot that ended the war. The family got a good laugh over the years from this story.\nMr. Metcalf also was a retired CMPD police officer for 37 years\, and one of the first group of motorcycle patrol officers for CMPD.\nObituary\n\n\nPRIMARY STAGING DETAILS: 06-12-19 \nStaging Time: 12:35 PM\n \nFirst Baptist Charlotte\n301 S Davidson St\,\nCharlotte\, North Carolina\nMap\n\n\nRide Captain: \nTim Snyder\n704-507-3010\n\n\nSpecial Instructions: \nWe will establish a flag line for family and friends for a visitation starting at 1:00 PM.\nAt 2:00 PM when service begins we will stand down and prepare to escort Mr. Metcalf and family to Sharon Memorial Park off Monroe Rd. approx. 7 miles.LEO has been requested.\nWe will form a flag line at the cemetery for the graveside service and at the end will quietly leave.\nAssisted by: Cw”Snapshot”Smith\, 704-690-3119\, cws68@yahoo.com\n\n\nFlags & Water:\nFlags will be provided\nIf you have large bike flags\, please bring them.\nWater will be provided.\n\n\n\nSubmitted By: cw smith \nPosition: North Carolina Ride Captain \n\nNote: You do not have to own/ride a motorcycle or be a veteran to join\, and membership is Free. The only requirement is RESPECT! To subscribe to receive mission notices\, log into the National Site and click on the Members tab at the top. Select the Subscribe to PGR Missions option.\n Print This Page
URL:https://www.patriotguard.org/mission/prescott-dolly-metcalf/
CATEGORIES:Honor Mission
END:VEVENT
END:VCALENDAR