BEGIN:VCALENDAR
VERSION:2.0
PRODID:-//Patriot Guard Riders - ECPv5.3.2.1//NONSGML v1.0//EN
CALSCALE:GREGORIAN
METHOD:PUBLISH
X-WR-CALNAME:Patriot Guard Riders
X-ORIGINAL-URL:https://www.patriotguard.org
X-WR-CALDESC:Events for Patriot Guard Riders
BEGIN:VTIMEZONE
TZID:America/New_York
BEGIN:DAYLIGHT
TZOFFSETFROM:-0500
TZOFFSETTO:-0400
TZNAME:EDT
DTSTART:20190310T070000
END:DAYLIGHT
BEGIN:STANDARD
TZOFFSETFROM:-0400
TZOFFSETTO:-0500
TZNAME:EST
DTSTART:20191103T060000
END:STANDARD
END:VTIMEZONE
BEGIN:VEVENT
DTSTART;VALUE=DATE:20190920
DTEND;VALUE=DATE:20190921
DTSTAMP:20210401T021732
CREATED:20190919T030742Z
LAST-MODIFIED:20190919T030742Z
UID:174999-1568937600-1569023999@www.patriotguard.org
SUMMARY:POW-MIA Recognition Day
DESCRIPTION:Memorial\nPOW-MIA Recognition Day\n–\nTuscaloosa\, Alabama – 09-20-19\n\n\n\nABOUT THE MISSION: \nVFW Post 6022 is holding their annual POW-MIA Recognition Day event on 20 September 2019 at 2pm and have asked the PGR to make a showing of support.. maybe take part in the program if possible to honor our former POWs and those still Missing In Action.\n\n\nPRIMARY STAGING DETAILS: 09-20-19 \nStaging Time: 1:00pm  \nVFW 6022\n7001 University Blvd E\nTuscaloosa\, Alabama 35453\nMap\n\n\nRide Captain: \nHarvey Nabors\n205-915-5128\nhnabors@att.net\n\n\nSpecial Instructions: \nStaging @ 1:00pm for 2:00 event to stake flags.\n\n\nFlags & Water:\nFlags will be provided\nIf you have large bike flags\, please bring them.\nWater will be provided.\n\n\n\nSubmitted By: Russell Dean Padgett \nPosition: Alabama Ride Captain \n\nNote: You do not have to own/ride a motorcycle or be a veteran to join\, and membership is Free. The only requirement is RESPECT! To subscribe to receive mission notices\, log into the National Site and click on the Members tab at the top. Select the Subscribe to PGR Missions option.\n Print This Page
URL:https://www.patriotguard.org/mission/pow-mia-recognition-day-2/
CATEGORIES:Memorial
END:VEVENT
END:VCALENDAR