BEGIN:VCALENDAR
VERSION:2.0
PRODID:-//Patriot Guard Riders - ECPv5.3.2.1//NONSGML v1.0//EN
CALSCALE:GREGORIAN
METHOD:PUBLISH
X-WR-CALNAME:Patriot Guard Riders
X-ORIGINAL-URL:https://www.patriotguard.org
X-WR-CALDESC:Events for Patriot Guard Riders
BEGIN:VTIMEZONE
TZID:America/New_York
BEGIN:DAYLIGHT
TZOFFSETFROM:-0500
TZOFFSETTO:-0400
TZNAME:EDT
DTSTART:20190310T070000
END:DAYLIGHT
BEGIN:STANDARD
TZOFFSETFROM:-0400
TZOFFSETTO:-0500
TZNAME:EST
DTSTART:20191103T060000
END:STANDARD
END:VTIMEZONE
BEGIN:VEVENT
DTSTART;VALUE=DATE:20190919
DTEND;VALUE=DATE:20190920
DTSTAMP:20210401T130636
CREATED:20190918T013905Z
LAST-MODIFIED:20190918T013905Z
UID:174587-1568851200-1568937599@www.patriotguard.org
SUMMARY:Pow/Mia Chair Dedication
DESCRIPTION:Memorial\nPow/Mia Chair Dedication\n–\nAvon\, Ohio – 09-20-19\n\n\n\nABOUT THE MISSION: \nWe have been asked by Avon Lake Board of Education to ride into the Stadium & to stand a Flag Line during the Dedication\, Honor Guard presentation and the playing of Taps. Further instructions will be provided by the RC at Staging. Our Mission will conclude when we exit the Stadium.\n\n\nPRIMARY STAGING DETAILS: 09-20-19 \nStaging Time: 5:45 PM\n \nAvon Lake Memorial Football Stadium\n175 Avon Belden Rd\nAvon\, Ohio 44012\n\n\nRide Captain: \nMike Schrull\nmike@mikeschrull.com\n\n\nSpecial Instructions: \nStaging Location: Behind the Stadium at the corner of Groveland Dr. and Lewis Street (32625 Groveland Dr. for GPS entry).\n“This is a Motorcycle Event Only” (No Cages)\n\n\nFlags & Water:\nFlags will not be provided\nIf you have large bike flags\, please bring them.\nWater WILL NOT be provided\, please bring your own.\n\n\n\nSubmitted By: Patrick O’Connor \nPosition: Ohio Assistant State Captain \n\nNote: You do not have to own/ride a motorcycle or be a veteran to join\, and membership is Free. The only requirement is RESPECT! To subscribe to receive mission notices\, log into the National Site and click on the Members tab at the top. Select the Subscribe to PGR Missions option.\n Print This Page
URL:https://www.patriotguard.org/mission/pow-mia-chair-dedication/
CATEGORIES:Memorial
END:VEVENT
END:VCALENDAR