BEGIN:VCALENDAR
VERSION:2.0
PRODID:-//Patriot Guard Riders - ECPv5.3.2.1//NONSGML v1.0//EN
CALSCALE:GREGORIAN
METHOD:PUBLISH
X-WR-CALNAME:Patriot Guard Riders
X-ORIGINAL-URL:https://www.patriotguard.org
X-WR-CALDESC:Events for Patriot Guard Riders
BEGIN:VTIMEZONE
TZID:America/New_York
BEGIN:DAYLIGHT
TZOFFSETFROM:-0500
TZOFFSETTO:-0400
TZNAME:EDT
DTSTART:20190310T070000
END:DAYLIGHT
BEGIN:STANDARD
TZOFFSETFROM:-0400
TZOFFSETTO:-0500
TZNAME:EST
DTSTART:20191103T060000
END:STANDARD
END:VTIMEZONE
BEGIN:VEVENT
DTSTART;VALUE=DATE:20190830
DTEND;VALUE=DATE:20190831
DTSTAMP:20210402T085320
CREATED:20190827T123605Z
LAST-MODIFIED:20190827T123605Z
UID:171968-1567123200-1567209599@www.patriotguard.org
SUMMARY:POW/MIA Chair Dedication Ceremony
DESCRIPTION:Memorial\nPOW/MIA Chair Dedication Ceremony\, POW/MIA\nUSA USMC USN USAF USCG \, ANG\, USAR\, USMCR\, USNR\, ARNG\, USAFR\, USCGR –\nAvon\, Ohio – 08-30-19\n\n\n\nABOUT THE MISSION: \nWe have been invited by the city of Avon\, OH to stand a flag line during the dedication of the POW/MIA Chair which will be permanently on display at the Avon Football Stadium.\n\n\nPRIMARY STAGING DETAILS: 08-30-19 \nStaging Time: 5:45 PM\n \nAvon Middle School\n3445 Long Road\nAvon\, Ohio 44011\n\n\nRide Captain: \nMike Schrull\nmike@mikeschrull.com\n\n\nSpecial Instructions: \nSchool Staging: 6 PM. If not riding in the escort\, please have a flag line in place awaiting our arrival.\n\n\nFlags & Water:\nFlags will not be provided\nIf you have large bike flags\, please bring them.\nWater WILL NOT be provided\, please bring your own.\n\n\n\nSubmitted By: Robert Woods \nPosition: Ohio State Captain \n\nNote: You do not have to own/ride a motorcycle or be a veteran to join\, and membership is Free. The only requirement is RESPECT! To subscribe to receive mission notices\, log into the National Site and click on the Members tab at the top. Select the Subscribe to PGR Missions option.\n Print This Page
URL:https://www.patriotguard.org/mission/pow-mia-chair-dedication-ceremony/
CATEGORIES:Memorial
END:VEVENT
END:VCALENDAR