BEGIN:VCALENDAR
VERSION:2.0
PRODID:-//Patriot Guard Riders - ECPv5.6.0//NONSGML v1.0//EN
CALSCALE:GREGORIAN
METHOD:PUBLISH
X-WR-CALNAME:Patriot Guard Riders
X-ORIGINAL-URL:https://www.patriotguard.org
X-WR-CALDESC:Events for Patriot Guard Riders
BEGIN:VTIMEZONE
TZID:America/New_York
BEGIN:DAYLIGHT
TZOFFSETFROM:-0500
TZOFFSETTO:-0400
TZNAME:EDT
DTSTART:20160313T070000
END:DAYLIGHT
BEGIN:STANDARD
TZOFFSETFROM:-0400
TZOFFSETTO:-0500
TZNAME:EST
DTSTART:20161106T060000
END:STANDARD
END:VTIMEZONE
BEGIN:VEVENT
DTSTART;TZID=America/New_York:20160625T090000
DTEND;TZID=America/New_York:20160625T110000
DTSTAMP:20210513T134527
CREATED:20160625T130000Z
LAST-MODIFIED:20191201T144839Z
UID:411065-1466845200-1466852400@www.patriotguard.org
SUMMARY:PO1 Roy C. James
DESCRIPTION:We have been asked to stand flag line and Escort for PO1 Roy C. James\, USN Retired. \nPetty Officer First Class James started his career out just as the Korean War was ending. He served 20 years in the Navy and retired in 1974 at the end of the Vietnam War. \nSaturday 25 June 2016 \nStaging:\n1300  (1:00 pm)\nCommunity Funeral Home\nBeaulaville\, NC \nMap:  https://goo.gl/maps/AyxU48RV6ax \n1310   set flags\n1320   safety briefing\n1330   stand flag line\n1400   visitation\n1500   Service  starts\n1510   stand down and get ready for escort\n1600 or so escort to Henderson Cemetery \nMap:  https://goo.gl/maps/gnR5UVyTQc32 \nThe escort is about 20 miles and will take about 23 min. \n**NOTE: Jacksonville area we plan on meeting at McDonald’s in Richlands at 1145 with KSU at  NLT 1230 to go to the staging point in Beaulaville. ** \nRCIC:  Craig “Sgt Bellile”\npgr.develdog@gmail.com\n910-388-5943 \n**SPECIAL NOTE: Safety is of our utmost priority.  Every effort possible is made in planning and executing the PGR Mission statement in a manner that minimizes the inherit dangers of riding a motorcycle\, including riding in groups of all sizes and any situation.  While the NCPG\, and it’s riders have a remarkable safety record in the execution of our missions\, infrequently members have been injured in unforeseen accidents.  In an effort to mitigate the risk of preventable accidents\, all attendees who wish to ride in a Patriot Guard motorcycle escort or ride are asked to attend the pre-mission briefing.  It will include a safety briefing\, and any unique ride information known to our RCIC that may be specific to the mission.  Member safety and well-being is always a principal ongoing concern\, our RCIC’s are asked to stand-down from any mission that cannot be accomplished in relative safety or unreasonable risk.  This includes both rides and flag lines in inclement weather and conditions.  It remains each individual PGR member’s responsibility to ride within their own comfort zone and be cognizant of their surroundings and skill limitations as well as any physical needs or limitations.  If the ride and/or mission conditions present challenges beyond your skill\, comfort\, or needs you are expected to exercise good judgment in foregoing any planned participation.
URL:https://www.patriotguard.org/mission/po1-roy-c-james/
CATEGORIES:Archive
END:VEVENT
END:VCALENDAR