BEGIN:VCALENDAR
VERSION:2.0
PRODID:-//Patriot Guard Riders - ECPv5.6.0//NONSGML v1.0//EN
CALSCALE:GREGORIAN
METHOD:PUBLISH
X-WR-CALNAME:Patriot Guard Riders
X-ORIGINAL-URL:https://www.patriotguard.org
X-WR-CALDESC:Events for Patriot Guard Riders
BEGIN:VTIMEZONE
TZID:America/New_York
BEGIN:DAYLIGHT
TZOFFSETFROM:-0500
TZOFFSETTO:-0400
TZNAME:EDT
DTSTART:20160313T070000
END:DAYLIGHT
BEGIN:STANDARD
TZOFFSETFROM:-0400
TZOFFSETTO:-0500
TZNAME:EST
DTSTART:20161106T060000
END:STANDARD
END:VTIMEZONE
BEGIN:VEVENT
DTSTART;TZID=America/New_York:20160816T090000
DTEND;TZID=America/New_York:20160816T110000
DTSTAMP:20210512T005237
CREATED:20160816T130000Z
LAST-MODIFIED:20191201T143547Z
UID:409885-1471338000-1471345200@www.patriotguard.org
SUMMARY:PO1 Richard Cox\, USN(RET)
DESCRIPTION:PO1 Richard Cox\nUS Navy Retired\nVietnam Veteran\nFort Logan\, Denver\, CO\n\n\n\nThe Patriot Guard Riders have been invited to stand in honor at the Interment Service for Richard Cox\, on Tuesday\, August 16\, 2016 at Fort Logan National Cemetery\, 3698 South Sheridan Blvd.\, Denver\, CO at 1:30PM\, Pavilion B. \nMr. Cox died on August 7\, 2016. He retired from the US Navy after 20 years of Service as a First Class Petty Officer. He served in Vietnam 1969 through 1970 with the Navy Special Forces\, Brown Water Navy on Swift Boats. He served as President of Vietnam Veterans of America\, Denver Chapter 1071 for the past four years. \n12:45PM – Stage at the Fort Logan Visitors Center \n1:00PM – Mission Briefing \n1:15PM – Depart for Pavilion B to form Flag Line \nWill an available Ride Captain please post. \nI will be honored to attend and will bring Flags. \nContact:\nJim “Pie Man” Herstein\njwherst@aol.com
URL:https://www.patriotguard.org/mission/po1-richard-cox-usnret/
CATEGORIES:Archive
END:VEVENT
END:VCALENDAR