BEGIN:VCALENDAR
VERSION:2.0
PRODID:-//Patriot Guard Riders - ECPv5.6.0//NONSGML v1.0//EN
CALSCALE:GREGORIAN
METHOD:PUBLISH
X-WR-CALNAME:Patriot Guard Riders
X-ORIGINAL-URL:https://www.patriotguard.org
X-WR-CALDESC:Events for Patriot Guard Riders
BEGIN:VTIMEZONE
TZID:America/New_York
BEGIN:DAYLIGHT
TZOFFSETFROM:-0500
TZOFFSETTO:-0400
TZNAME:EDT
DTSTART:20160313T070000
END:DAYLIGHT
BEGIN:STANDARD
TZOFFSETFROM:-0400
TZOFFSETTO:-0500
TZNAME:EST
DTSTART:20161106T060000
END:STANDARD
END:VTIMEZONE
BEGIN:VEVENT
DTSTART;TZID=America/New_York:20160813T090000
DTEND;TZID=America/New_York:20160813T110000
DTSTAMP:20210512T014851
CREATED:20160813T130000Z
LAST-MODIFIED:20191201T143619Z
UID:409933-1471078800-1471086000@www.patriotguard.org
SUMMARY:PO1 Louis Mazzei
DESCRIPTION:PGR MISSION\n13 AUGUST\nUS NAVY RETIRED PETTY OFFICER FIRST CLASS LOUIS (LOU) MAZZEI\nMARANA\, ARIZONA 85653 \n\n\nLouis (Lou) Mazzei was born in Alliance\, Ohio\, one of three children on 21 April 1948.  In 1968 Lou signed on the dotted line to serve in the United States Navy.  Petty Officer First Class Mazzei service time spanned 22 years.  He received a Navy Achievement Medal\, Good Conduct Medal\, the Navy Reserves Meritorious Service Medal with three awards\, the National Defense Service Medal with two awards and the Armed Forces Reserve Medal with Bronze Hourglass and M Device. \nIn his civilian career he worked as a welder.   He spent the last 20 years in Arizona enjoying the sun and warmth.  On 7 May 2011\, Petty Officer First Class Mazzei married Lorraine and they spent many hours watching his favorite baseball team\, the Diamondbacks.  He was also very active in his local VFW #5990 in Marana\, Arizona where he served as Senior Vice Commander. \nPetty Officer First Class Mazzei passed on 16 July 2016.  He leaves behind his wife\, a son\, a daughter and many family and friends. \nThe Patriot Guard Riders have been invited to stand a flag line and it will be our honor. \nDATE:  13 AUGUST 2016 \nSTAGING:  VFW POST 5990 \n                    15850 W. El Tiro Road\n                    Marana\, Arizona  985653  \nTIME:  12:30 PM \nBRIEFING:  12:45 PM \nRIDE CAPTAIN:  Benny 520-444-3123\n\n***PLEASE REMEMBER WE ARE IN THE HEAT OF SUMMER TO HYDRATE THE DAY BEFORE AS WELL AS THE DAY OF THE MISSION WITH WATER OR GATORADE*** \n\n​
URL:https://www.patriotguard.org/mission/po1-louis-mazzei/
CATEGORIES:Archive
END:VEVENT
END:VCALENDAR