BEGIN:VCALENDAR
VERSION:2.0
PRODID:-//Patriot Guard Riders - ECPv5.3.2.1//NONSGML v1.0//EN
CALSCALE:GREGORIAN
METHOD:PUBLISH
X-WR-CALNAME:Patriot Guard Riders
X-ORIGINAL-URL:https://www.patriotguard.org
X-WR-CALDESC:Events for Patriot Guard Riders
BEGIN:VTIMEZONE
TZID:America/New_York
BEGIN:DAYLIGHT
TZOFFSETFROM:-0500
TZOFFSETTO:-0400
TZNAME:EDT
DTSTART:20170312T070000
END:DAYLIGHT
BEGIN:STANDARD
TZOFFSETFROM:-0400
TZOFFSETTO:-0500
TZNAME:EST
DTSTART:20171105T060000
END:STANDARD
END:VTIMEZONE
BEGIN:VEVENT
DTSTART;TZID=America/New_York:20171110T093000
DTEND;TZID=America/New_York:20171110T113000
DTSTAMP:20210401T191713
CREATED:20171110T143000Z
LAST-MODIFIED:20191201T025837Z
UID:301334-1510306200-1510313400@www.patriotguard.org
SUMMARY:Pine Point Hospice-Veterans Appreciation -HOTH Macon\, Georgia - 10 Nov 2017
DESCRIPTION:ABOUT THE MISSION: \nPine Point Hospice has invited the PGR to attend an appreciation program for the Veterans they care for. This will be a brief mission starting at 10 am and lasting about 30 minutes. We will establish a static flag line outside. Our Briana Wilson will open with the National Anthem and close with God bless America. Light refreshments will be served at the closing. We will be there to show our veterans they are appreciated. \nComments from Pine Point Hospice; As a “We Honor Veterans” organization\, we try very hard to let each patient who has served our country know how much we appreciate them. We ask the veteran status of each patient on admission. Then\, if the veteran and family will allow\, we present the patient with a pin at a bedside ceremony – usually with a past member of the military and family present. The rooms of veterans bedded in our inpatient facility are designated with a red\, white\, and blue ribbon on the door. We are currently working on a recognition board with the names of veterans we have cared for to be placed in the entry to our hospice house. (We are hoping this will be ready at the beginning of November). \nIn addition to the above\, each year we have a larger\, public ceremony recognizing our veterans – both those who work with us and the patients we have cared for. This year the recognition ceremony will take place Friday\, Nov. 10th at 10:00am at our facility on Peake Road. We will have a speaker and light refreshments. We would be honored if you could attend and perhaps present colors or participate in some other way. Your dedication to all veterans is both admired and appreciated. \nPRIMARY STAGING DETAILS: 10 Nov 2017\nPrimary Staging Time: 9:30 A.M.\nPine Point Hospice\n6261 Peake Road\nMacon\, Georgia – 31210 \nRide Captain:\nBruce “FlagMaster” Tamker\nbatamker@cox.net\n(478) 952-3400 \nSpecial Instructions:\nFlags & Water:\nFlags Will Be Provided\nLarge Bike Flags will NOT be needed.\nWater will be provided.
URL:https://www.patriotguard.org/mission/pine-point-hospice-veterans-appreciation-hoth-macon-georgia-10-nov-2017/
END:VEVENT
END:VCALENDAR