BEGIN:VCALENDAR
VERSION:2.0
PRODID:-//Patriot Guard Riders - ECPv5.3.2.1//NONSGML v1.0//EN
CALSCALE:GREGORIAN
METHOD:PUBLISH
X-WR-CALNAME:Patriot Guard Riders
X-ORIGINAL-URL:https://www.patriotguard.org
X-WR-CALDESC:Events for Patriot Guard Riders
BEGIN:VTIMEZONE
TZID:America/New_York
BEGIN:DAYLIGHT
TZOFFSETFROM:-0500
TZOFFSETTO:-0400
TZNAME:EDT
DTSTART:20190310T070000
END:DAYLIGHT
BEGIN:STANDARD
TZOFFSETFROM:-0400
TZOFFSETTO:-0500
TZNAME:EST
DTSTART:20191103T060000
END:STANDARD
END:VTIMEZONE
BEGIN:VEVENT
DTSTART;VALUE=DATE:20190710
DTEND;VALUE=DATE:20190711
DTSTAMP:20210404T031637
CREATED:20190709T144733Z
LAST-MODIFIED:20190709T144733Z
UID:167108-1562716800-1562803199@www.patriotguard.org
SUMMARY:Phillip Whitaker
DESCRIPTION:Honor Mission\nPhillip Whitaker\, Veteran\nUSMC – Korea\nAnnville\, Pennsylvania – 07-10-19\n\n\n\nABOUT THE MISSION: \nUSMC Korean War Veteran PVT Phillip Whitaker has passed with no known family. Phillip served from 1954-1955.\n\n\nPRIMARY STAGING DETAILS: 07-10-19 \nStaging Time: 10:00 AM\n \nIndiantown Gap National Cemetery\nAnnville\, Pennsylvania 17003\nMap\n\n\nRide Captain: \nTBD\n\n\nSpecial Instructions: \nStage at the parking lot opposite the rear of the PA Memorial\, (turn left at the US Flag Circle).\nDO NOT PROCEED TO COMMITTAL SITE WITHOUT PERMISSION.\nNOTE: Concealed carry permits are NOT recognized on military installations and federal reservations. Indiantown Gap National Cemetery is a federal reservation. Do not bring weapons or hazardous materials to this mission.\n\n\nFlags & Water:\nFlags will not be provided\nLarge Bike Flags will NOT be needed.\nWater WILL NOT be provided\, please bring your own.\n\n\n\nSubmitted By: Eric Cramer \nPosition: Pennsylvania Ride Captain \n\nNote: You do not have to own/ride a motorcycle or be a veteran to join\, and membership is Free. The only requirement is RESPECT! To subscribe to receive mission notices\, log into the National Site and click on the Members tab at the top. Select the Subscribe to PGR Missions option.\n Print This Page
URL:https://www.patriotguard.org/mission/phillip-whitaker/
CATEGORIES:Honor Mission
END:VEVENT
END:VCALENDAR