BEGIN:VCALENDAR
VERSION:2.0
PRODID:-//Patriot Guard Riders - ECPv5.3.2.1//NONSGML v1.0//EN
CALSCALE:GREGORIAN
METHOD:PUBLISH
X-WR-CALNAME:Patriot Guard Riders
X-ORIGINAL-URL:https://www.patriotguard.org
X-WR-CALDESC:Events for Patriot Guard Riders
BEGIN:VTIMEZONE
TZID:America/New_York
BEGIN:DAYLIGHT
TZOFFSETFROM:-0500
TZOFFSETTO:-0400
TZNAME:EDT
DTSTART:20190310T070000
END:DAYLIGHT
BEGIN:STANDARD
TZOFFSETFROM:-0400
TZOFFSETTO:-0500
TZNAME:EST
DTSTART:20191103T060000
END:STANDARD
END:VTIMEZONE
BEGIN:VEVENT
DTSTART;VALUE=DATE:20190528
DTEND;VALUE=DATE:20190529
DTSTAMP:20210405T004430
CREATED:20190528T012355Z
LAST-MODIFIED:20190528T012355Z
UID:162596-1559001600-1559087999@www.patriotguard.org
SUMMARY:Phillip Roy Atherton
DESCRIPTION:Honor Mission\nPhillip Roy Atherton\, Veteran\nUSA\nCalhoun\, Kentucky – 05-28-19\n\n\n\n\nABOUT THE MISSION: \nThe family of Mr. Atherton has invited the Patriot Guard to stand in his honor and we will be honored to do so. Private 2nd Class Atherton was a true American hero and he will be interred on May 28th\, 2019 with military honors.\n\n\nPRIMARY STAGING DETAILS: 05-28-19 \nStaging Time: 08:30  \nBuck Creek Baptist Church\n3788 US 431\nCalhoun\, Kentucky\n\n\nRide Captain: \nJeff Free:\njeff.free@bigrivers.com\nSandy Free:\nsfree@audubon-area.com\n\n\nSpecial Instructions: \n\n\nFlags & Water:\nFlags will be provided\nIf you have large bike flags\, please bring them.\nWater WILL NOT be provided\, please bring your own.\n\n\n\n\nSubmitted By: Tom Folsom \nPosition: Kentucky State Captain \n\nNote: You do not have to own/ride a motorcycle or be a veteran to join\, and membership is Free. The only requirement is RESPECT! To subscribe to receive mission notices\, log into the National Site and click on the Members tab at the top. Select the Subscribe to PGR Missions option.\n Print This Page
URL:https://www.patriotguard.org/mission/phillip-roy-atherton/
CATEGORIES:Honor Mission
END:VEVENT
END:VCALENDAR