BEGIN:VCALENDAR
VERSION:2.0
PRODID:-//Patriot Guard Riders - ECPv5.3.2.1//NONSGML v1.0//EN
CALSCALE:GREGORIAN
METHOD:PUBLISH
X-WR-CALNAME:Patriot Guard Riders
X-ORIGINAL-URL:https://www.patriotguard.org
X-WR-CALDESC:Events for Patriot Guard Riders
BEGIN:VTIMEZONE
TZID:America/New_York
BEGIN:DAYLIGHT
TZOFFSETFROM:-0500
TZOFFSETTO:-0400
TZNAME:EDT
DTSTART:20190310T070000
END:DAYLIGHT
BEGIN:STANDARD
TZOFFSETFROM:-0400
TZOFFSETTO:-0500
TZNAME:EST
DTSTART:20191103T060000
END:STANDARD
END:VTIMEZONE
BEGIN:VEVENT
DTSTART;VALUE=DATE:20190722
DTEND;VALUE=DATE:20190723
DTSTAMP:20210404T070621
CREATED:20190719T183556Z
LAST-MODIFIED:20190719T183556Z
UID:168269-1563753600-1563839999@www.patriotguard.org
SUMMARY:Phillip Nelson Crosby
DESCRIPTION:Honor Mission\nPhillip Nelson Crosby\, Retired\nUSA – Vietnam\nGeronimo\, Oklahoma – 07-22-19\n\n\n\nABOUT THE MISSION: \nThe family of Phillip Nelson Crosby\, US Army\, Vietnam Veteran\, has asked the Patriot Guard to stand in honor of their fallen Hero. SSG Phillip Nelson Crosby began his military 1965 and retired 1982. SSG Crosby was a Track Vehicle Specialist\, Personnel Management Specialist\, Administrative Specialist. SSG Crosby’s last duty station was at Fort Sill Fld Ofc 6th RGN\, USA Criminal Investigation Command. SSG Crosby received the following Medals and ribbons: National Defense Service Medal\, Republic of Vietnam Campaign Medal\, Vietnam Service Medal W/ 4 Service Stars\, Overseas Service Ribbon-2\, Army Service Ribbon\, Republic of Vietnam Gallantry Cross\, Unit Citation with Palm\, Army Commendation Medal w/2nd Oak Leaf Cluster\, Good Conduct Medal Sixth Award\, Marksman( M16). Service will be at 10:00 am. Interment at Fort Sill on Post. The US Army Honor Guard will render full military honors.\n\n\nPRIMARY STAGING DETAILS: 07-22-19 \nStaging Time: 09:00 AM\n \nAbundant Life Church\n5th and Wood Ridge Dr.\nGeronimo\, Oklahoma 73543\n\n\nRide Captain: \nJerry ” Shepard” Wilson\n1-580-467-4648\njerry_46@yahoo.com\n\n\nSpecial Instructions: \nBriefing: 0915 hrs. (Must attend briefing to accompany family to Fort Sill on Post)\nMust wear proper attire to ride onto Post.\n\nFlags & Water:\nFlags will be provided\nIf you have large bike flags\, please bring them.\nWater will be provided.\n\n\n\nSubmitted By: Jerry Wilson \nPosition: Oklahoma Ride Captain \n\nNote: You do not have to own/ride a motorcycle or be a veteran to join\, and membership is Free. The only requirement is RESPECT! To subscribe to receive mission notices\, log into the National Site and click on the Members tab at the top. Select the Subscribe to PGR Missions option.\n Print This Page
URL:https://www.patriotguard.org/mission/phillip-nelson-crosby/
CATEGORIES:Honor Mission
END:VEVENT
END:VCALENDAR