BEGIN:VCALENDAR
VERSION:2.0
PRODID:-//Patriot Guard Riders - ECPv5.3.2.1//NONSGML v1.0//EN
CALSCALE:GREGORIAN
METHOD:PUBLISH
X-WR-CALNAME:Patriot Guard Riders
X-ORIGINAL-URL:https://www.patriotguard.org
X-WR-CALDESC:Events for Patriot Guard Riders
BEGIN:VTIMEZONE
TZID:America/New_York
BEGIN:DAYLIGHT
TZOFFSETFROM:-0500
TZOFFSETTO:-0400
TZNAME:EDT
DTSTART:20190310T070000
END:DAYLIGHT
BEGIN:STANDARD
TZOFFSETFROM:-0400
TZOFFSETTO:-0500
TZNAME:EST
DTSTART:20191103T060000
END:STANDARD
END:VTIMEZONE
BEGIN:VEVENT
DTSTART;VALUE=DATE:20190927
DTEND;VALUE=DATE:20190928
DTSTAMP:20210401T095736
CREATED:20190927T040700Z
LAST-MODIFIED:20190927T040700Z
UID:176824-1569542400-1569628799@www.patriotguard.org
SUMMARY:Phillip Nathan Coley
DESCRIPTION:Honor Mission\nPhillip Nathan Coley\, Active Duty\nUSAF –\nCharlotte\, North Carolina – 09-27-19\n\n\n\nABOUT THE MISSION: \nThe family of Tech Sergeant Phillip Nathan Coley USAF (32) Active Duty\, has requested our presence to escort their hero home. While on assignment in Texas\, Tech Sergeant Coley had lost his life.\n\n\nPRIMARY STAGING DETAILS: 09-27-19 \nStaging Time: 5:45 PM\n \nCharlotte Airport Cell Phone lot (Next to Long Term Parking Lot One)\nCharlotte\, North Carolina\nMap\n\n\nRide Captain: \nCW”Snapshot”Smith\n704-690-3119\nCws68@yahoo.com\n\n\nSpecial Instructions: \nBriefing: 6:00 pm\nWe shall await the arrival of Tech Sgt. Coley coach in cell lot and escort him to Hartsell Funeral home in Midland approx. 35 miles.\nAs Tech Sgt. Coley is transferred from coach into funeral Home we will render honors then quietly leave the area.\n\n\nFlags & Water:\nFlags will not be provided\nIf you have large bike flags\, please bring them.\nWater will be provided.\n\n\n\nSubmitted By: cw smith \nPosition: North Carolina Ride Captain \n\nNote: You do not have to own/ride a motorcycle or be a veteran to join\, and membership is Free. The only requirement is RESPECT! To subscribe to receive mission notices\, log into the National Site and click on the Members tab at the top. Select the Subscribe to PGR Missions option.\n Print This Page
URL:https://www.patriotguard.org/mission/phillip-nathan-coley/
CATEGORIES:Honor Mission
END:VEVENT
END:VCALENDAR