BEGIN:VCALENDAR
VERSION:2.0
PRODID:-//Patriot Guard Riders - ECPv5.3.2.1//NONSGML v1.0//EN
CALSCALE:GREGORIAN
METHOD:PUBLISH
X-WR-CALNAME:Patriot Guard Riders
X-ORIGINAL-URL:https://www.patriotguard.org
X-WR-CALDESC:Events for Patriot Guard Riders
BEGIN:VTIMEZONE
TZID:America/New_York
BEGIN:DAYLIGHT
TZOFFSETFROM:-0500
TZOFFSETTO:-0400
TZNAME:EDT
DTSTART:20190310T070000
END:DAYLIGHT
BEGIN:STANDARD
TZOFFSETFROM:-0400
TZOFFSETTO:-0500
TZNAME:EST
DTSTART:20191103T060000
END:STANDARD
END:VTIMEZONE
BEGIN:VEVENT
DTSTART;VALUE=DATE:20190608
DTEND;VALUE=DATE:20190609
DTSTAMP:20210405T062002
CREATED:20190608T023453Z
LAST-MODIFIED:20190608T023453Z
UID:163842-1559952000-1560038399@www.patriotguard.org
SUMMARY:Phillip Dean Meddock
DESCRIPTION:Honor Mission\nPhillip Dean Meddock\, Veteran\nUSAF\nLucasville\, Ohio – 06-08-19\n\n\n \n\nABOUT THE MISSION: \nA1C Phillip Dean Meddock\, was a Vietnam Era Veteran and very active in his community.\n\n\nPRIMARY STAGING DETAILS: 06-08-19 \nStaging Time: 9:30 am\n \nMcKinley Funeral Home\n10562 U.S. Route 23 N\nLucasville\, Ohio 45648\n\n\nRide Captain: \nChris Thacker\nthackomatic@gmail.com\n\n\nSpecial Instructions: \n\n\nFlags & Water:\nFlags will not be provided\nIf you have large bike flags\, please bring them.\nWater WILL NOT be provided\, please bring your own.\n\n\n\nSubmitted By: Robert Woods \nPosition: Ohio State Captain \n\nNote: You do not have to own/ride a motorcycle or be a veteran to join\, and membership is Free. The only requirement is RESPECT! To subscribe to receive mission notices\, log into the National Site and click on the Members tab at the top. Select the Subscribe to PGR Missions option.\n Print This Page
URL:https://www.patriotguard.org/mission/phillip-dean-meddock/
CATEGORIES:Honor Mission
END:VEVENT
END:VCALENDAR