BEGIN:VCALENDAR
VERSION:2.0
PRODID:-//Patriot Guard Riders - ECPv5.3.2.1//NONSGML v1.0//EN
CALSCALE:GREGORIAN
METHOD:PUBLISH
X-WR-CALNAME:Patriot Guard Riders
X-ORIGINAL-URL:https://www.patriotguard.org
X-WR-CALDESC:Events for Patriot Guard Riders
BEGIN:VTIMEZONE
TZID:America/New_York
BEGIN:DAYLIGHT
TZOFFSETFROM:-0500
TZOFFSETTO:-0400
TZNAME:EDT
DTSTART:20210314T070000
END:DAYLIGHT
BEGIN:STANDARD
TZOFFSETFROM:-0400
TZOFFSETTO:-0500
TZNAME:EST
DTSTART:20211107T060000
END:STANDARD
END:VTIMEZONE
BEGIN:VEVENT
DTSTART;VALUE=DATE:20210403
DTEND;VALUE=DATE:20210404
DTSTAMP:20210404T083648
CREATED:20210401T044427Z
LAST-MODIFIED:20210401T044427Z
UID:573475-1617408000-1617494399@www.patriotguard.org
SUMMARY:Philip S. Sabella
DESCRIPTION:Honor Mission\nPhilip S. Sabella\, Veteran\nUSA – Korea\nMULTI-CITY\, Rhode Island – 04-03\, 04-05-21\n\n\n\nABOUT THE MISSION: \nWe have been called to honor the father of one of our own members. Sharon Toner’s father\, Philip S Sabella\, passed away this past Saturday at home surrounded by his family. Phil served his country honorably in the US Army during the Korean War. He was a renowned Barber in Greenville (Phil’s Barber Shop)\, an active member of the Korean War Veterans Association\, and a Grand Knight in the Knights of Columbus.\n\n\nPRIMARY STAGING DETAILS: 04-03-21 \nStaging Time: 12:30 PM\n \nAnderson Winfield Funeral Home\n2 Church St.\nGreenville\, Rhode Island 02828\n\n\nRide Captain: \n“Cowboy” Mike Graichen\nMikegncbc@gmail.com\n\nAsst: Carolyn Carbery\, Foundersbrook@verizon.net\n\n\nSpecial Instructions: \n\n\nFlags & Water:\nFlags will be provided\nLarge Bike Flags will NOT be needed.\nWater WILL NOT be provided\, please bring your own.\n\nSTAGING #2 DETAILS: 04-05-21 \nStaging Time: 08:00 AM\n \nAnderson Winfield Funeral Home\n2 Church St.\nGreenville\, Rhode Island 02828\n\n\nRide Captain: \n“Cowboy” Mike Graichen\nMikegncbc@gmail.com\n\n\nSpecial Instructions: \nThis staging is for motorcycles involved in the escort only.\nThere will be no flag line here.\nAll flag bearers please go to the 3rd staging.\n\n\nFlags & Water:\nFlags will not be provided\nIf you have large bike flags\, please bring them.\nWater WILL NOT be provided\, please bring your own.\n\nSTAGING #3 DETAILS: 04-05-21 \nStaging Time: 10:30 AM\n \nSt. Patrick’s Cemetery\n425 Pascoag Main St.\nPascoag\, Rhode Island 02859\n\n\nRide Captain: \nCarolyn Carbery\nFoundersbrook@verizon.net\n\n\nSpecial Instructions: \n\n\nFlags & Water:\nFlags will be provided\nLarge Bike Flags will NOT be needed.\nWater WILL NOT be provided\, please bring your own.\n\n\nSubmitted By: Michael Graichen \nPosition: Rhode Island HOTH Coordinator \n\nNote: You do not have to own/ride a motorcycle or be a veteran to join\, and membership is Free. The only requirement is RESPECT! To subscribe to receive mission notices\, log into the National Site and click on the Members tab at the top. Select the Subscribe to PGR Missions option.\n Print This Page
URL:https://www.patriotguard.org/mission/philip-s-sabella/2021-04-03/
CATEGORIES:Honor Mission
END:VEVENT
END:VCALENDAR