BEGIN:VCALENDAR
VERSION:2.0
PRODID:-//Patriot Guard Riders - ECPv5.6.0//NONSGML v1.0//EN
CALSCALE:GREGORIAN
METHOD:PUBLISH
X-WR-CALNAME:Patriot Guard Riders
X-ORIGINAL-URL:https://www.patriotguard.org
X-WR-CALDESC:Events for Patriot Guard Riders
BEGIN:VTIMEZONE
TZID:America/New_York
BEGIN:DAYLIGHT
TZOFFSETFROM:-0500
TZOFFSETTO:-0400
TZNAME:EDT
DTSTART:20080309T070000
END:DAYLIGHT
BEGIN:STANDARD
TZOFFSETFROM:-0400
TZOFFSETTO:-0500
TZNAME:EST
DTSTART:20081102T060000
END:STANDARD
END:VTIMEZONE
BEGIN:VEVENT
DTSTART;TZID=America/New_York:20080823T090000
DTEND;TZID=America/New_York:20080823T110000
DTSTAMP:20210513T035931
CREATED:20080823T130000Z
LAST-MODIFIED:20191201T113511Z
UID:380720-1219482000-1219489200@www.patriotguard.org
SUMMARY:Pfc. Daniel A. C. McGuire\, 19
DESCRIPTION:SUBJECT:  Final Itinerary – PVT Daniel McGuire\, 19\, USMC – Mashpee\, MA 23AUG \nSTAGING:  Rest Area \nRoute 6 & Route 132 \nCenterville \, MA \nMAP LINK:  http://tinyurl.com/6ldc4u \nTIMING:  Stage: 12:00 – 12:40 Saturday\, August 23rd \nBriefing:  12:40 \nKSU:  1:00 \nServices for Dan will be held at Christ Chapel\, 1200 Old Stage Road\, \nCenterville; internment will be private and we will not attend. \nRIDE CAPTAIN:  Mitch Plonka   mitch6223@comcast.net \n>>>>>PLEASE BRING YOUR FLAGS
URL:https://www.patriotguard.org/mission/pfc-daniel-a-c-mcguire-19/
CATEGORIES:Archive
END:VEVENT
END:VCALENDAR