BEGIN:VCALENDAR
VERSION:2.0
PRODID:-//Patriot Guard Riders - ECPv5.3.2.1//NONSGML v1.0//EN
CALSCALE:GREGORIAN
METHOD:PUBLISH
X-WR-CALNAME:Patriot Guard Riders
X-ORIGINAL-URL:https://www.patriotguard.org
X-WR-CALDESC:Events for Patriot Guard Riders
BEGIN:VTIMEZONE
TZID:America/New_York
BEGIN:DAYLIGHT
TZOFFSETFROM:-0500
TZOFFSETTO:-0400
TZNAME:EDT
DTSTART:20160313T070000
END:DAYLIGHT
BEGIN:STANDARD
TZOFFSETFROM:-0400
TZOFFSETTO:-0500
TZNAME:EST
DTSTART:20161106T060000
END:STANDARD
END:VTIMEZONE
BEGIN:VEVENT
DTSTART;TZID=America/New_York:20160702T090000
DTEND;TZID=America/New_York:20160702T110000
DTSTAMP:20210402T003646
CREATED:20160702T130000Z
LAST-MODIFIED:20191201T144742Z
UID:410985-1467450000-1467457200@www.patriotguard.org
SUMMARY:Peter Warren Kemp
DESCRIPTION:Patriot Guard and Associates:\n\nSadly we have been called to stand for PETER WARREN KEMP DM1(Draftsman) 1965-1972attached to Naval Security Group Command and The Naval Communication Training Center Pensacola\, FL.  \nPeter was a longtime resident of Bethel CT and was a nationally recognized Industrial Arts teacher at Bethel Middle School for over 30 years.  \nPeter entered the Navy at 17 and was assigned to NAVSECGRU and was tasked with Intelligence gathering and denial of intelligence to adversaries. That Special Group has now been decommissioned.  \nWe will stand a flag line at The CT STATE VETERANS CEMETERY 317 Bow La\, Middletown CT on JULY 2 2016 at 11 am (STAGING 10 am). \nASC Jack Casey will be RCIC and flags and water will be on site.
URL:https://www.patriotguard.org/mission/peter-warren-kemp/
CATEGORIES:Archive
END:VEVENT
END:VCALENDAR