BEGIN:VCALENDAR
VERSION:2.0
PRODID:-//Patriot Guard Riders - ECPv5.6.0//NONSGML v1.0//EN
CALSCALE:GREGORIAN
METHOD:PUBLISH
X-WR-CALNAME:Patriot Guard Riders
X-ORIGINAL-URL:https://www.patriotguard.org
X-WR-CALDESC:Events for Patriot Guard Riders
BEGIN:VTIMEZONE
TZID:America/New_York
BEGIN:DAYLIGHT
TZOFFSETFROM:-0500
TZOFFSETTO:-0400
TZNAME:EDT
DTSTART:20210314T070000
END:DAYLIGHT
BEGIN:STANDARD
TZOFFSETFROM:-0400
TZOFFSETTO:-0500
TZNAME:EST
DTSTART:20211107T060000
END:STANDARD
END:VTIMEZONE
BEGIN:VEVENT
DTSTART;VALUE=DATE:20210514
DTEND;VALUE=DATE:20210515
DTSTAMP:20210512T074844
CREATED:20210510T151641Z
LAST-MODIFIED:20210510T151641Z
UID:576764-1620950400-1621036799@www.patriotguard.org
SUMMARY:Peter Teune Jr.
DESCRIPTION:Honor Mission\nPeter Teune Jr.\, Veteran\nUSA –\nGresham\, Oregon – 05-14-21\n\n\n\nABOUT THE MISSION: \nLadies and Gentlemen of the Patriot Guard Riders\, we have been invited to stand for Peter Teune Jr.\, age 67. Peter served in the US Army from 6-26-1972 to 4-6-1978 as a Power Generator Equipment Substation Operator. He received the National Defense Service Medal and the Sharpshooter (M-16) Rifle Bar. Please join us as we pay our respects and honor his service to our nation.\n\n\nPRIMARY STAGING DETAILS: 05-14-21 \nStaging Time: 12:00 Noon\n \nMountain View Church\n1890 NE Cleveland Ave.\nGresham\, Oregon 97030\nMap\n\n\nRide Captain: \nEd Anderson\nandersoned@hotmail.com\n\n\nSpecial Instructions: \nBriefing: 12:15 PM\nFlagline Set: As Needed\nService Begins: 1:00 PM\n\n\nFlags & Water:\nFlags will not be provided\nIf you have large bike flags\, please bring them.\nWater WILL NOT be provided\, please bring your own.\n\nSTAGING #2 DETAILS: 05-14-21 \nStaging Time: 2:30 PM\n \nForest Lawn Cemetery\n400 SW Walters Dr.\nGresham\, Oregon 97080\nMap\n\n\nRide Captain: \nEd Anderson\nandersoned@hotmail.com\n\n\nSpecial Instructions: \nEscort to Cemetery for 2:30 PM Funeral. (this is a 7-minute ride)\nPlease send cages ahead to set flagline.\nMilitary Honors\n\n\nFlags & Water:\nFlags will not be provided\nIf you have large bike flags\, please bring them.\nWater WILL NOT be provided\, please bring your own.\n\n\nSubmitted By: Debbie Parrack \nPosition: \n\nNote: You do not have to own/ride a motorcycle or be a veteran to join\, and membership is Free. The only requirement is RESPECT! To subscribe to receive mission notices\, log into the National Site and click on the Members tab at the top. Select the Subscribe to PGR Missions option.\n Print This Page
URL:https://www.patriotguard.org/mission/peter-teune-jr/
CATEGORIES:Honor Mission
END:VEVENT
END:VCALENDAR