BEGIN:VCALENDAR
VERSION:2.0
PRODID:-//Patriot Guard Riders - ECPv5.6.0//NONSGML v1.0//EN
CALSCALE:GREGORIAN
METHOD:PUBLISH
X-WR-CALNAME:Patriot Guard Riders
X-ORIGINAL-URL:https://www.patriotguard.org
X-WR-CALDESC:Events for Patriot Guard Riders
BEGIN:VTIMEZONE
TZID:America/New_York
BEGIN:DAYLIGHT
TZOFFSETFROM:-0500
TZOFFSETTO:-0400
TZNAME:EDT
DTSTART:20160313T070000
END:DAYLIGHT
BEGIN:STANDARD
TZOFFSETFROM:-0400
TZOFFSETTO:-0500
TZNAME:EST
DTSTART:20161106T060000
END:STANDARD
END:VTIMEZONE
BEGIN:VEVENT
DTSTART;TZID=America/New_York:20160618T090000
DTEND;TZID=America/New_York:20160618T110000
DTSTAMP:20210513T165806
CREATED:20160618T130000Z
LAST-MODIFIED:20191201T145041Z
UID:411250-1466240400-1466247600@www.patriotguard.org
SUMMARY:Peter Roper\, 56\, USA Veteran / Mobile
DESCRIPTION:Peter Roper\, 56\nUS Army\nWhistler\, AL\nSaturday\, 18 June 2016\n\n\n\nFellow Riders\, \nIt is with heavy heart that I must inform you that Alabama and America has lost another true American hero.  The family of Peter Roper has requested the Patriot Guard to stand in honor of their loved one.  Mr. Roper passed away at the age of 56. \nMr. Roper served in the U.S. Army for 3 years and 11 between 1979 and 1983 and received an Honorable Discharge.  Rank\, awards and commendations are unknown.  It is our honor to stand for this true American Hero. \nVisitation:  12:30 p.m.\nFreewill Pentecostal Church\n6000 Biloxi Ave.\nMobile\, AL \nFuneral: 1:00 p.m.\nFreewill Pentecostal Church\n6000 Biloxi Ave.\nMobile\, AL \nInterment: 2:30 p.m.\nWhispering Pines Cemetery\n1760 Cheeseman Ave.\nWhistler\, AL \nMobile Staging: \nMobile County Fairgrounds (intersection of Cody Rd. N. & Zeigler Blvd.) \nTime: 11:45 a.m. \nBriefing: 12:00 p.m. \nKSU: 12:15 p.m. \nRCIC: Greg Selman\, SRC\n(251) 490-9791 \nFlags: Greg Selman\, SRC\n(251) 490-9791 \nHonor Guard:  YES & LEO:  YES \nBaldwin Staging: \nW.F. Green Veterans Memorial Home\, Bay Minette\, AL \nKSU: 11:00 a.m. \nRCIC: Greg Selman\, SRC – (251) 490-9791 \nMr. Roper stood many a hard day and night for us so that we might be safe and free.\nNow it’s our turn to stand for him.  Ride Safely!!
URL:https://www.patriotguard.org/mission/peter-roper-56-usa-veteran-mobile/
CATEGORIES:Archive
END:VEVENT
END:VCALENDAR