BEGIN:VCALENDAR
VERSION:2.0
PRODID:-//Patriot Guard Riders - ECPv5.3.2.1//NONSGML v1.0//EN
CALSCALE:GREGORIAN
METHOD:PUBLISH
X-WR-CALNAME:Patriot Guard Riders
X-ORIGINAL-URL:https://www.patriotguard.org
X-WR-CALDESC:Events for Patriot Guard Riders
BEGIN:VTIMEZONE
TZID:America/New_York
BEGIN:DAYLIGHT
TZOFFSETFROM:-0500
TZOFFSETTO:-0400
TZNAME:EDT
DTSTART:20170312T070000
END:DAYLIGHT
BEGIN:STANDARD
TZOFFSETFROM:-0400
TZOFFSETTO:-0500
TZNAME:EST
DTSTART:20171105T060000
END:STANDARD
END:VTIMEZONE
BEGIN:VEVENT
DTSTART;TZID=America/New_York:20170825T090000
DTEND;TZID=America/New_York:20170825T110000
DTSTAMP:20210404T125004
CREATED:20170825T130000Z
LAST-MODIFIED:20191201T031551Z
UID:319749-1503651600-1503658800@www.patriotguard.org
SUMMARY:Peter D. Grima\, Veteran\, USA - Vietnam
DESCRIPTION:SP5 Peter D. Grima\, Veteran\nUSA  – Vietnam\nMULTI-CITY\, Illinois – 25 Aug 2017\n\n\n[HR][/HR]\nABOUT THE MISSION: \n\nMr. Grima proudly served in the Vietnam  Conflict with the United States Army. In honor of his service\, his  family has asked The Patriot Guard along with The US Army to give him  all he deserves.\n\n\nPRIMARY STAGING DETAILS:  25 Aug 2017\nPrimary Staging Time: 9:00 A.M. \n\nBlackburn-Giegerich-Sonntag Funeral Home\n1500 Black Road\nJoliet\, Illinois\n\n\nRide Captain: \n\nbigDave 312 405-2692\nAssisting/Flag Support: “Scratch”\n\n\nSpecial Instructions: \n\nFollowing funeral service we will escort to:\nALNC\n20953 Hoff Rd\nSTAGING:\n1200hrs 12noon\n\n\nFlags & Water: \n\nFlags Will Be Provided\nIf you have large bike flags\, please bring them.\nWater will be provided.\n\n\nSubmitted By: David Gier\nPosition: Ride Captain\n[HR][/HR]Note:\nYou do not have to own/ride a motorcycle or be a Veteran to join and membership is Free. The only requirement is RESPECT! To join\, simply go to www.PatriotGuard.org and click on Register. Membership is Free. \nTo subscribe to receive mission notices\, log into the National Site and click on the Mission Tab at the top. Select the Subscribe to Missions option.
URL:https://www.patriotguard.org/mission/peter-d-grima-veteran-usa-vietnam/
END:VEVENT
END:VCALENDAR