BEGIN:VCALENDAR
VERSION:2.0
PRODID:-//Patriot Guard Riders - ECPv5.3.2.1//NONSGML v1.0//EN
CALSCALE:GREGORIAN
METHOD:PUBLISH
X-WR-CALNAME:Patriot Guard Riders
X-ORIGINAL-URL:https://www.patriotguard.org
X-WR-CALDESC:Events for Patriot Guard Riders
BEGIN:VTIMEZONE
TZID:America/New_York
BEGIN:DAYLIGHT
TZOFFSETFROM:-0500
TZOFFSETTO:-0400
TZNAME:EDT
DTSTART:20190310T070000
END:DAYLIGHT
BEGIN:STANDARD
TZOFFSETFROM:-0400
TZOFFSETTO:-0500
TZNAME:EST
DTSTART:20191103T060000
END:STANDARD
END:VTIMEZONE
BEGIN:VEVENT
DTSTART;VALUE=DATE:20190812
DTEND;VALUE=DATE:20190813
DTSTAMP:20210402T122754
CREATED:20190810T055712Z
LAST-MODIFIED:20190810T055712Z
UID:170282-1565568000-1565654399@www.patriotguard.org
SUMMARY:Pedro Manuel Perez
DESCRIPTION:Honor Mission\nPedro Manuel Perez\, Veteran\nUSA\, USAR\nSaginaw\, Michigan – 08-12-19\n\n\n\nABOUT THE MISSION: \nThe family of Mr. Pedro Perez has invited the PGR to stand a silent flag line in honor of his service to our country. Mr. Perez served in the US Army from 1962-1964\, and continued in the USAR through 1969. Mr. Perez attained the rank of SP5 and earned Marksman/M-1. Pedro was very active at his church\, K of C\, and was most proud of his families success. Mr. Perez is survived by his wife\, two children\, and many extended family. Please join us to honor Mr. Perez’s service to our country\, and to support his family in this time of grief.\nObituary: http://www.casefuneralhome.com/obituary/Pedro-M.-P%C3%A9rez/Saginaw-Michigan/1854540\n\n\nPRIMARY STAGING DETAILS: 08-12-19 \nStaging Time: 12:15 pm\n \nW.L. Case Funeral Home\n4480 Mackinaw Rd.\nSaginaw\, Michigan 48603\nhttps://goo.gl/maps/kkVtSWDKbiXxjDqdA\n\n\nRide Captain: \nGordon Sizemore\n(810) 728-3395\n\n\nSpecial Instructions: \nBrief:. 12:45 PM\nFlag Line: 1:00 PM to 4:00 PM\nPlease bring your 3 x 5 American flags; no one need stand the entire time\, please give what time you can.\nRC Point of Contact:\nJohn Mulvaney\n989-295-4419\n\n\nFlags & Water:\nFlags will not be provided\nLarge Bike Flags will NOT be needed.\nWater WILL NOT be provided\, please bring your own.\n\n\nSubmitted By: Terrence Laurencelle \nPosition: Michigan Ride Captain \n\nNote: You do not have to own/ride a motorcycle or be a veteran to join\, and membership is Free. The only requirement is RESPECT! To subscribe to receive mission notices\, log into the National Site and click on the Members tab at the top. Select the Subscribe to PGR Missions option.\n Print This Page
URL:https://www.patriotguard.org/mission/pedro-manuel-perez/
CATEGORIES:Honor Mission
END:VEVENT
END:VCALENDAR