BEGIN:VCALENDAR
VERSION:2.0
PRODID:-//Patriot Guard Riders - ECPv5.3.2.1//NONSGML v1.0//EN
CALSCALE:GREGORIAN
METHOD:PUBLISH
X-WR-CALNAME:Patriot Guard Riders
X-ORIGINAL-URL:https://www.patriotguard.org
X-WR-CALDESC:Events for Patriot Guard Riders
BEGIN:VTIMEZONE
TZID:America/New_York
BEGIN:DAYLIGHT
TZOFFSETFROM:-0500
TZOFFSETTO:-0400
TZNAME:EDT
DTSTART:20190310T070000
END:DAYLIGHT
BEGIN:STANDARD
TZOFFSETFROM:-0400
TZOFFSETTO:-0500
TZNAME:EST
DTSTART:20191103T060000
END:STANDARD
END:VTIMEZONE
BEGIN:VEVENT
DTSTART;VALUE=DATE:20190802
DTEND;VALUE=DATE:20190803
DTSTAMP:20210402T113442
CREATED:20190730T200555Z
LAST-MODIFIED:20190730T200555Z
UID:169196-1564704000-1564790399@www.patriotguard.org
SUMMARY:Payton Alexander George
DESCRIPTION:Honor Mission\nPayton Alexander George\, Active Duty\nUSN – WoT\nPhoenix\, Arizona – 08-02-19\n\n\n\n\nABOUT THE MISSION: \nPayton Alexander George is a United States Navy Veteran. Payton enlisted in the United States Navy in July 2017. His MOS was Master-at-Arms (Military Police). For the past 9 months\, Payton was stationed at Oceana Naval Air Station in Chesapeake\, VA. Prior to that Payton was stationed at Offutt Air Force Base in Bellevue\, NE. Payton was recently promoted to E4 and his rating was MA3 (Master-at-Arms\, Petty Officer Third Class).\n\n\nPRIMARY STAGING DETAILS: 08-02-19 \nStaging Time: 10:45 am \nRenovation Church\n5604 N 24th St.\nPhoenix\, Arizona 85016\n\n\nRide Captain: \nDavid “Murf” Murphy\n480-406-4049 azpgrmurf@gmail.com\n\nDoug “Skully” Pierson\, Lead Road Guard\n\n\nSpecial Instructions: \nPlease arrive as quietly as possible\, church service will be underway.11:00 AM: Mass scheduled to conclude.\n11:25 AM:Circle of Honor\n11:45 AM: KSU to National Memorial\n12:30 PM: Military Honors\n\nFlags & Water:\nFlags will not be provided\nIf you have large bike flags\, please bring them.\nWater WILL NOT be provided\, please bring your own.\n\nSTAGING #2 DETAILS: 08-02-19 \nStaging Time: 11:50  am \nNational Memorial Cemetery of Arizona\, Visitor’s Center\n23029 N. Cave Creek Rd.\nPhoenix\, Arizona 85024\n\n\nRide Captain: \nDavid “Murf” Murphy\n480-406-4049\nazpgrmurf@gmail.com\n\nTom “TB” Burns – Co-Ride Captain\n\nFlag Captain: Gary O.\n\n\nSpecial Instructions: \nPlease park on the south side\, behind the main stage.\n12:10 PM: Set Flag Line on the north side of the main stage from the drive toward the seating area.\n12:20 PM: Upon dignified transfer\, move Flag Line behind the tent and chairs.\n12:30 PM: Military Honors.\n\nFlags & Water:\nFlags will be provided\nLarge Bike Flags will NOT be needed.\nWater will be provided.\n\nSubmitted By: David Murphy \nPosition: Arizona Assistant State Captain \n\nNote: You do not have to own/ride a motorcycle or be a veteran to join\, and membership is Free. The only requirement is RESPECT! To subscribe to receive mission notices\, log into the National Site and click on the Members tab at the top. Select the Subscribe to PGR Missions option.\n Print This Page
URL:https://www.patriotguard.org/mission/payton-alexander-george/
CATEGORIES:Honor Mission
END:VEVENT
END:VCALENDAR