BEGIN:VCALENDAR
VERSION:2.0
PRODID:-//Patriot Guard Riders - ECPv5.6.0//NONSGML v1.0//EN
CALSCALE:GREGORIAN
METHOD:PUBLISH
X-WR-CALNAME:Patriot Guard Riders
X-ORIGINAL-URL:https://www.patriotguard.org
X-WR-CALDESC:Events for Patriot Guard Riders
BEGIN:VTIMEZONE
TZID:America/New_York
BEGIN:DAYLIGHT
TZOFFSETFROM:-0500
TZOFFSETTO:-0400
TZNAME:EDT
DTSTART:20160313T070000
END:DAYLIGHT
BEGIN:STANDARD
TZOFFSETFROM:-0400
TZOFFSETTO:-0500
TZNAME:EST
DTSTART:20161106T060000
END:STANDARD
END:VTIMEZONE
BEGIN:VEVENT
DTSTART;TZID=America/New_York:20160824T090000
DTEND;TZID=America/New_York:20160824T110000
DTSTAMP:20210512T045229
CREATED:20160824T130000Z
LAST-MODIFIED:20191201T143420Z
UID:409747-1472029200-1472036400@www.patriotguard.org
SUMMARY:Paul W. Berger\, 87\, USA
DESCRIPTION:SGT Paul William Berger\, 87\nCanton\, Ohio\nUnited States Army Korean War Veteran\n[ATTACH=CONFIG]5045[/ATTACH]\n\n\nVisitation/Service:\nReed Funeral Home Canton Chapel\n705 Raff Road S.W. \nCanton\, Ohio 44710\nVisitation:  24 August 2016@1100-1300hrs-(11 AM-1 PM)\nService:  24 August 2016@1300hrs-(1 PM)\nStaging: 24 August 2016@1000HRS-(10 am)\nMap Funeral Home to Cemetery:   https://goo.gl/maps/L5HAJYaZe5G2\nInterment: Forest Lawn Cemetery\, Canton\, Ohio following the Service \nDistrict  # 6 Ride Captain Ralph Olbon is assigned this mission of Honor and  Respect. Please follow his instructions and remember your 3’x5′ American  flags. Use your own judgment on how you get safely to and from the  mission. If you need to contact Ralph email him at:  Olbon@att.net
URL:https://www.patriotguard.org/mission/paul-w-berger-87-usa/
CATEGORIES:Archive
END:VEVENT
END:VCALENDAR