BEGIN:VCALENDAR
VERSION:2.0
PRODID:-//Patriot Guard Riders - ECPv5.3.2.1//NONSGML v1.0//EN
CALSCALE:GREGORIAN
METHOD:PUBLISH
X-WR-CALNAME:Patriot Guard Riders
X-ORIGINAL-URL:https://www.patriotguard.org
X-WR-CALDESC:Events for Patriot Guard Riders
BEGIN:VTIMEZONE
TZID:America/New_York
BEGIN:DAYLIGHT
TZOFFSETFROM:-0500
TZOFFSETTO:-0400
TZNAME:EDT
DTSTART:20190310T070000
END:DAYLIGHT
BEGIN:STANDARD
TZOFFSETFROM:-0400
TZOFFSETTO:-0500
TZNAME:EST
DTSTART:20191103T060000
END:STANDARD
END:VTIMEZONE
BEGIN:VEVENT
DTSTART;VALUE=DATE:20190712
DTEND;VALUE=DATE:20190713
DTSTAMP:20210403T202009
CREATED:20190710T230309Z
LAST-MODIFIED:20190710T230309Z
UID:167261-1562889600-1562975999@www.patriotguard.org
SUMMARY:Paul “Smitty” Schmitz
DESCRIPTION:Honor Mission\nPaul “Smitty” Schmitz\, Veteran\nUSA –  WWII\nSaint Louis\, Missouri – 07-12-19\n\n\n\n\nABOUT THE MISSION: \nThe Patriot Guard Riders have been requested by the family of US Army Veteran\, Paul Schmitz\, age 96\, to stand a flag line of honor and respect for their loved one’s funeral and escort him to his final resting place at Jefferson Barracks National Cemetery where he will receive full military honors.  Veteran Schmitz served during WW IIfrom December 1942 to December 1945.  He attained the rank of Private First Class (PFC) \n\n\n\nPRIMARY STAGING DETAILS: 07-12-19 \nStaging Time: 10:15 am \nSt. Ambrose Catholic Church\n5130 Wilson Avenue (I-64/US-40\, exit 36A Kingshighway south\, Shaw Ave west/right\, Marconi Ave south/left\, at Wilson) OR (I-270\, exit 5A I-44 east\, exit 287A Kingshighway south\, Shaw Ave west/right\, Marconi south/left\, at Wilson).\nSaint Louis\, Missouri 63139\n\n\nRide Captain: \nDan “Lt.Dan” Doerer\n(314) 576-5856\nj_d_doerer@att.net\nFlag Support: Denny “Dutchman” Eads\n\n\nSpecial Instructions: \nPlease arrive quietly as visitation will be underway.  Assemble in the parking lot just south of the church.\n10:15 AM:  Stage\, Ride Meeting\n11:00 AM:  Flag Line 11:00 AM\n11:45 AM:  Mass.  Estimated time of escort to Jefferson Barracks National Cemetery (11 miles\, 27 min.)\n12:30 PM: Committal Service with Military Honors and interment. The current NWS forecast during this Mission is 77º – 84º\, no rain.  Travel/dress accordingly. All vehicles welcome.  Hydrate\, hydrate\, hydrate.\n\nFlags & Water:\nFlags will be provided\nIf you have large bike flags\, please bring them.\nWater will be provided.\n\n\n\nSubmitted By: Dan Doerer \nPosition: Missouri Ride Captain \n\nNote: You do not have to own/ride a motorcycle or be a veteran to join\, and membership is Free. The only requirement is RESPECT! To subscribe to receive mission notices\, log into the National Site and click on the Members tab at the top. Select the Subscribe to PGR Missions option.\n Print This Page
URL:https://www.patriotguard.org/mission/paul-smitty-schmitz/
CATEGORIES:Honor Mission
END:VEVENT
END:VCALENDAR