BEGIN:VCALENDAR
VERSION:2.0
PRODID:-//Patriot Guard Riders - ECPv5.6.0//NONSGML v1.0//EN
CALSCALE:GREGORIAN
METHOD:PUBLISH
X-WR-CALNAME:Patriot Guard Riders
X-ORIGINAL-URL:https://www.patriotguard.org
X-WR-CALDESC:Events for Patriot Guard Riders
BEGIN:VTIMEZONE
TZID:America/New_York
BEGIN:DAYLIGHT
TZOFFSETFROM:-0500
TZOFFSETTO:-0400
TZNAME:EDT
DTSTART:20160313T070000
END:DAYLIGHT
BEGIN:STANDARD
TZOFFSETFROM:-0400
TZOFFSETTO:-0500
TZNAME:EST
DTSTART:20161106T060000
END:STANDARD
END:VTIMEZONE
BEGIN:VEVENT
DTSTART;TZID=America/New_York:20160604T090000
DTEND;TZID=America/New_York:20160604T110000
DTSTAMP:20210513T161805
CREATED:20160604T130000Z
LAST-MODIFIED:20191201T145513Z
UID:411660-1465030800-1465038000@www.patriotguard.org
SUMMARY:Paul Roger Pemberton\, USAF(RET)\, Vietnam / Fuquay
DESCRIPTION:Fellow Patriots\,\n\n  We have been asked by the family of Paul Roger Pemberton\, U.S. Air Force (R) to stand for him as he once stood for us. Mr. Pemberton was a 21 year Air Force veteran and a Korean era and Vietnam War veteran.  Please join me in honoring the life and service of Mr. Pemberton. The itinerary is as follows: \nSaturday\, June 4\, 2016 \nThomas Funeral Home\n401 North Ennis Street\nFuquay\, Varina\, NC \nhttp://tiny.cc/hm6tby \nStaging: 12:15 PM  \nMission brief: 12:30 PM \nEstablish Flag line: 12:45 PM \nThe flag line will be maintained during the visitation\, 1:00 PM – 2:00 PM and we will stand down at the start of the funeral service.\n\nRCIC & POC:\nTom “Joker” Meece\ntemeece@yahoo.com \nSPECIAL NOTE: Safety is of our utmost priority. Every effort possible is made in planning and executing the PGR Mission statement in a manner that minimizes the inherit dangers of riding a motorcycle\, including riding in groups of all sizes and any situation. While the NCPG and its riders have a remarkable safety record in the execution of our missions\, infrequently members have been injured in unforeseen accidents. In an effort to mitigate the risk of preventable accidents\, all attendees who wish to ride in a Patriot Guard motorcycle escort or ride are asked to attend the pre-mission briefing. It will include a safety briefing\, and any unique ride information known to our RCIC that may be specific to the mission. Member safety and well-being is always a principal ongoing concern. Our RCIC’s are asked to stand-down from any mission that cannot be accomplished in relative safety or present unreasonable risk. This includes both rides and flag lines in inclement weather and conditions. It remains each individual PGR member’s responsibility to ride within their own comfort zone and be cognizant of their surroundings and skill limitations as well as any physical needs or limitations. If the ride and/or mission conditions present challenges beyond your skill\, comfort\, or needs you are expected to exercise good judgment in foregoing any planned participation.
URL:https://www.patriotguard.org/mission/paul-roger-pemberton-usafret-vietnam-fuquay/
CATEGORIES:Archive
END:VEVENT
END:VCALENDAR