BEGIN:VCALENDAR
VERSION:2.0
PRODID:-//Patriot Guard Riders - ECPv5.6.0//NONSGML v1.0//EN
CALSCALE:GREGORIAN
METHOD:PUBLISH
X-WR-CALNAME:Patriot Guard Riders
X-ORIGINAL-URL:https://www.patriotguard.org
X-WR-CALDESC:Events for Patriot Guard Riders
BEGIN:VTIMEZONE
TZID:America/New_York
BEGIN:DAYLIGHT
TZOFFSETFROM:-0500
TZOFFSETTO:-0400
TZNAME:EDT
DTSTART:20210314T070000
END:DAYLIGHT
BEGIN:STANDARD
TZOFFSETFROM:-0400
TZOFFSETTO:-0500
TZNAME:EST
DTSTART:20211107T060000
END:STANDARD
END:VTIMEZONE
BEGIN:VEVENT
DTSTART;VALUE=DATE:20210512
DTEND;VALUE=DATE:20210513
DTSTAMP:20210513T211711
CREATED:20210511T215329Z
LAST-MODIFIED:20210511T215329Z
UID:577072-1620777600-1620863999@www.patriotguard.org
SUMMARY:Paul R. Brown\, II
DESCRIPTION:Honor Mission\nPaul R. Brown\, II\, Veteran\nUSMC –\nLouisville\, Kentucky – 05-12-21\n\n\n\nABOUT THE MISSION: \nWe have been requested to stand for and escort Paul R. Brown\, II\, a proud veteran of the United States Marine Corp.\, to his final place of rest.It will be our honor\n\n\nPRIMARY STAGING DETAILS: 05-12-21 \nStaging Time: 09:45  EST\n \nSt. Elizabeth of Hungary\n1020 East Burnett Ave\nLouisville\, Kentucky 40217\n\n\nRide Captain: \nDavid Ballard\n502 249-0011\n\n\nSpecial Instructions: \nFlag line 10:00-11:00\nMass starts at 11:00\nEscort to St. Michael’s Cemetery following service\, 1153 Charles Street\, Louisville\, KY 40204.\nPlease come hydrated and dressed for the weather.\n\n\nFlags & Water:\nFlags will be provided\nIf you have large bike flags\, please bring them.\nWater WILL NOT be provided\, please bring your own.\n\n\nSubmitted By: Thomas Baker \nPosition: Kentucky Ride Captain \n\nNote: You do not have to own/ride a motorcycle or be a veteran to join\, and membership is Free. The only requirement is RESPECT! To subscribe to receive mission notices\, log into the National Site and click on the Members tab at the top. Select the Subscribe to PGR Missions option.\n Print This Page
URL:https://www.patriotguard.org/mission/paul-r-brown-ii/
CATEGORIES:Honor Mission
END:VEVENT
END:VCALENDAR