BEGIN:VCALENDAR
VERSION:2.0
PRODID:-//Patriot Guard Riders - ECPv5.3.2.1//NONSGML v1.0//EN
CALSCALE:GREGORIAN
METHOD:PUBLISH
X-WR-CALNAME:Patriot Guard Riders
X-ORIGINAL-URL:https://www.patriotguard.org
X-WR-CALDESC:Events for Patriot Guard Riders
BEGIN:VTIMEZONE
TZID:America/New_York
BEGIN:DAYLIGHT
TZOFFSETFROM:-0500
TZOFFSETTO:-0400
TZNAME:EDT
DTSTART:20170312T070000
END:DAYLIGHT
BEGIN:STANDARD
TZOFFSETFROM:-0400
TZOFFSETTO:-0500
TZNAME:EST
DTSTART:20171105T060000
END:STANDARD
END:VTIMEZONE
BEGIN:VEVENT
DTSTART;TZID=America/New_York:20170225T114500
DTEND;TZID=America/New_York:20170225T134500
DTSTAMP:20210405T230205
CREATED:20170225T164500Z
LAST-MODIFIED:20191201T034258Z
UID:341265-1488023100-1488030300@www.patriotguard.org
SUMMARY:Paul L. Meadows\, OKARNG
DESCRIPTION:Paul L. Meadows\, Retired \nOKARNG \nMcAlester\, Oklahoma – 25 Feb 2017\n\n[HR][/HR]\nABOUT THE MISSION: \nThe family of OKARNG – RET SSG Paul L. Meadows has asked the Patriot Guard Riders to stand a flag line at his Funeral Services to be held on Saturday\, 25 Feb 2017\, 1:00pm at the McAlester Scottish Rite Temple\, McAlester\, OK. \nPRIMARY STAGING DETAILS: 25 Feb 2017 \n \nPrimary Staging Time: 11:45 A.M.\n\nMcAlester Scottish Rite Temple\n305 N. 2nd St.\n\nMcAlester\, Oklahoma – 74501\n\n\n\n \nRide Captain:\n\nDaniel “Papa Slick” James\n918-470-8379\nPapaslick@jamesco.us \nCarol “Beehive” James\n918-429-7840\nCjames@jamesco.us\n\n \nSpecial Instructions:\n\nStaging: 11:45am\nMcAlester Scottish Rite Temple\n305 N. 2nd St. \nMandatory Briefing: 12:00 PM.\nSet flag line: 12:30 PM. \nThe riders will set a flag line for incoming friends and family. An escort will be provided following the services to the Sexton Family Cemetery\, Jones Creek Rd\, Blocker Ok. approximately 15 miles North on US Highway 31. \nWeather: Sunny with a low of 36 and a high of 52.\n\n \nFlags & Water:\n\nFlags Will Be Provided\n\nIf you have large bike flags\, please bring them.\n\nWater will be provided.\n\nSubmitted By: Ronnie Smith\nPosition: Ride Captain \n[HR][/HR]\nNote:\nYou do not have to own/ride a motorcycle or be a Veteran to join and membership is Free. The only requirement is RESPECT! To join\, simply go to Patriot Guard website and click on Register. Membership is Free. \nTo subscribe to receive mission notices\, log into the National Site and click on the Mission Tab at the top. Select Upcoming Missions by State. Scroll to the state(s) you would like to receive notices for and click on the green check mark. Detailed instructions are also located in the FAQs on the site by clicking on the Quick Links Tab and selecting FAQs.
URL:https://www.patriotguard.org/mission/paul-l-meadows-okarng/
LOCATION:Fred Marchant
END:VEVENT
END:VCALENDAR