BEGIN:VCALENDAR
VERSION:2.0
PRODID:-//Patriot Guard Riders - ECPv5.3.2.1//NONSGML v1.0//EN
CALSCALE:GREGORIAN
METHOD:PUBLISH
X-WR-CALNAME:Patriot Guard Riders
X-ORIGINAL-URL:https://www.patriotguard.org
X-WR-CALDESC:Events for Patriot Guard Riders
BEGIN:VTIMEZONE
TZID:America/New_York
BEGIN:DAYLIGHT
TZOFFSETFROM:-0500
TZOFFSETTO:-0400
TZNAME:EDT
DTSTART:20190310T070000
END:DAYLIGHT
BEGIN:STANDARD
TZOFFSETFROM:-0400
TZOFFSETTO:-0500
TZNAME:EST
DTSTART:20191103T060000
END:STANDARD
END:VTIMEZONE
BEGIN:VEVENT
DTSTART;VALUE=DATE:20190727
DTEND;VALUE=DATE:20190728
DTSTAMP:20210404T053543
CREATED:20190726T221637Z
LAST-MODIFIED:20190726T221748Z
UID:168851-1564185600-1564271999@www.patriotguard.org
SUMMARY:Paul Kenneth Hookey
DESCRIPTION:Honor Mission\nPaul Kenneth Hookey\, Veteran\nUSAF – Korea\nSouth Pittsburg\, Tennessee – 07-27-19\n\n\n\nABOUT THE MISSION: \nThe family of Paul Kenneth Hookey\,89\, USAF/ Merchant Marines(7/30-7/31/54)\, Korean War of South Pittsburg has invited the Patriot Guard Riders to Honor their loved one with a Silent flag-line and escort to his final place of rest.  It WILL be Our Honor to do so.  Mr. Hookey\,(4/30/30 to 7/24/19)\, served his country during the Korean War.  He was awarded the National Defense Service Medal and the Good Conduct Medal . He was a fireman during his time in the Air Force.  He loved old bridges and history.  Mr. Hookey stood for us and now it is Our time to stand for him.\n\n\nPRIMARY STAGING DETAILS: 07-27-19 \nStaging: 11:30 AM\n \nRogers Funeral Home\n400 Laural Ave.\nSouth Pittsburg\, Tennessee 37380\n\n\nRide Captain: \nScott Hall\n706-463-1247\n\n\nSpecial Instructions: \nPrimary Staging/Escort: Saturday July 27\, 2019 12:00-2:00 PM CDT\n\n\nFlags & Water:\nFlags will be provided\nIf you have large bike flags\, please bring them.\nWater WILL NOT be provided\, please bring your own.\n\nSTAGING #2 DETAILS: 07-27-19 \nStaging: 2:30 PM\n \nBattlecreek Baptist Church\n5486 Battlecreek Rd.\nSouth Pittsburg\, Tennessee 37380\n\n\nRide Captain: \nScott Hall\n706-463-1247\n\n\nSpecial Instructions: \nGraveside: 2:30 PM CDT\n\n\nFlags & Water:\nFlags will be provided\nIf you have large bike flags\, please bring them.\nWater WILL NOT be provided\, please bring your own.\n\nSubmitted By: Thonda Farmer \nPosition: Tennessee Assistant State Captain \n\nNote: You do not have to own/ride a motorcycle or be a veteran to join\, and membership is Free. The only requirement is RESPECT! To subscribe to receive mission notices\, log into the National Site and click on the Members tab at the top. Select the Subscribe to PGR Missions option.\n Print This Page
URL:https://www.patriotguard.org/mission/paul-kenneth-hookey/
CATEGORIES:Honor Mission
END:VEVENT
END:VCALENDAR