BEGIN:VCALENDAR
VERSION:2.0
PRODID:-//Patriot Guard Riders - ECPv5.3.2.1//NONSGML v1.0//EN
CALSCALE:GREGORIAN
METHOD:PUBLISH
X-WR-CALNAME:Patriot Guard Riders
X-ORIGINAL-URL:https://www.patriotguard.org
X-WR-CALDESC:Events for Patriot Guard Riders
BEGIN:VTIMEZONE
TZID:America/New_York
BEGIN:DAYLIGHT
TZOFFSETFROM:-0500
TZOFFSETTO:-0400
TZNAME:EDT
DTSTART:20190310T070000
END:DAYLIGHT
BEGIN:STANDARD
TZOFFSETFROM:-0400
TZOFFSETTO:-0500
TZNAME:EST
DTSTART:20191103T060000
END:STANDARD
END:VTIMEZONE
BEGIN:VEVENT
DTSTART;VALUE=DATE:20190928
DTEND;VALUE=DATE:20190929
DTSTAMP:20210401T073038
CREATED:20190927T144012Z
LAST-MODIFIED:20190927T144012Z
UID:176766-1569628800-1569715199@www.patriotguard.org
SUMMARY:Paul Henderson
DESCRIPTION:Honor Mission\nPaul Henderson\, Veteran\nUSA\nHurst\, Texas – 09-28-19\n\n\n \n\nABOUT THE MISSION: \nFuneral Service\n\n\nPRIMARY STAGING DETAILS: 09-28-19 \nStaging Time: 1:00 pm\n \nHurst Baptist Church\n737 Treadwell Drive\nHurst\, Texas 76053\n\n\nRide Captain: \nBrian Liberty\nPostmasterLiberty@gmail.com\n(979) 702-9097\n\n\nSpecial Instructions: \nFuneral Service Starting Time 2pm Riders will stage at Hurst Baptist Church and prepare the flag line. When directed by the ride captain\, the riders will take up positions on the flag line as the family and friends of Paul Henderson arrive. After the service starts\, the flags will be returned to the support vehicle\, riders will then be debriefed and dismissed.PGR has been asked to provide Honors at the beginning of the service.\n\nFlags & Water:\nFlags will be provided\nLarge Bike Flags will NOT be needed.\nWater will be provided.\n\n\n\nSubmitted By: Dan Mathys \nPosition: Texas Ride Captain \n\nNote: You do not have to own/ride a motorcycle or be a veteran to join\, and membership is Free. The only requirement is RESPECT! To subscribe to receive mission notices\, log into the National Site and click on the Members tab at the top. Select the Subscribe to PGR Missions option.\n Print This Page
URL:https://www.patriotguard.org/mission/paul-henderson-2/
CATEGORIES:Honor Mission
END:VEVENT
END:VCALENDAR