BEGIN:VCALENDAR
VERSION:2.0
PRODID:-//Patriot Guard Riders - ECPv5.3.2.1//NONSGML v1.0//EN
CALSCALE:GREGORIAN
METHOD:PUBLISH
X-WR-CALNAME:Patriot Guard Riders
X-ORIGINAL-URL:https://www.patriotguard.org
X-WR-CALDESC:Events for Patriot Guard Riders
BEGIN:VTIMEZONE
TZID:America/New_York
BEGIN:DAYLIGHT
TZOFFSETFROM:-0500
TZOFFSETTO:-0400
TZNAME:EDT
DTSTART:20190310T070000
END:DAYLIGHT
BEGIN:STANDARD
TZOFFSETFROM:-0400
TZOFFSETTO:-0500
TZNAME:EST
DTSTART:20191103T060000
END:STANDARD
END:VTIMEZONE
BEGIN:VEVENT
DTSTART;VALUE=DATE:20190724
DTEND;VALUE=DATE:20190725
DTSTAMP:20210404T051145
CREATED:20190723T234618Z
LAST-MODIFIED:20190724T021804Z
UID:168587-1563926400-1564012799@www.patriotguard.org
SUMMARY:Paul Haven Mead
DESCRIPTION:Honor Mission\nPaul Haven Mead\, Veteran\nUSN\nDallas\, Texas – 07-24-19\n\n\n\nABOUT THE MISSION: \nInterment Service\n\n\nPRIMARY STAGING DETAILS: 07-24-19 \nStaging: 10:30 AM\n \nDallas-Fort Worth National Cemetery\n2000 Mountain Creek Pkwy\nDallas\, Texas 75211\n\n\nRide Captain: \nJeffrey Wike\nasm757@att.net\n(817) 301-4293\n\n\nSpecial Instructions: \nInterment Service Staging: 10:30 AM\nBriefing: 10:45 AM\nIn Position/KSU: 11:00 AM\nStart: 11:15 AM\, Riders will stage at the Information Center.  After the briefing\, honor bikes will be selected and will proceed to the designated staging lane.  All other riders will proceed to the designated shelter to set flags and await the arrival of the procession.  Riders will stand tall and silent until the Ride Captain indicates flags be returned to the storage locker\, after which\, riders will be debriefed and dismissed.\n\n\nFlags & Water:\nFlags will be provided\nIf you have large bike flags\, please bring them.\nWater will be provided.\n\nSubmitted By: Dan Mathys \nPosition: Texas Ride Captain \n\nNote: You do not have to own/ride a motorcycle or be a veteran to join\, and membership is Free. The only requirement is RESPECT! To subscribe to receive mission notices\, log into the National Site and click on the Members tab at the top. Select the Subscribe to PGR Missions option.\n Print This Page
URL:https://www.patriotguard.org/mission/paul-haven-mead/
CATEGORIES:Honor Mission
END:VEVENT
END:VCALENDAR