BEGIN:VCALENDAR
VERSION:2.0
PRODID:-//Patriot Guard Riders - ECPv5.3.2.1//NONSGML v1.0//EN
CALSCALE:GREGORIAN
METHOD:PUBLISH
X-WR-CALNAME:Patriot Guard Riders
X-ORIGINAL-URL:https://www.patriotguard.org
X-WR-CALDESC:Events for Patriot Guard Riders
BEGIN:VTIMEZONE
TZID:America/New_York
BEGIN:DAYLIGHT
TZOFFSETFROM:-0500
TZOFFSETTO:-0400
TZNAME:EDT
DTSTART:20190310T070000
END:DAYLIGHT
BEGIN:STANDARD
TZOFFSETFROM:-0400
TZOFFSETTO:-0500
TZNAME:EST
DTSTART:20191103T060000
END:STANDARD
END:VTIMEZONE
BEGIN:VEVENT
DTSTART;VALUE=DATE:20190906
DTEND;VALUE=DATE:20190907
DTSTAMP:20210401T092627
CREATED:20190905T163709Z
LAST-MODIFIED:20190905T163709Z
UID:172775-1567728000-1567814399@www.patriotguard.org
SUMMARY:Paul Edward Dean
DESCRIPTION:Honor Mission\nPaul Edward Dean\, Veteran\nUSA\, USAF\, USAR –\nCedar Hill\, Missouri – 09-06-19\n\n\n\nABOUT THE MISSION: \nThe family of US Army / US Air Force veteran PFC Paul Edward Dean (80) has requested the Patriot Guard Riders for the final mission of their loved one. Mr. Dean served his country from 1956-1963. Following his service he worked at the Chrysler plant. He enjoyed Cardinal baseball\, Bowling\, working on classic cars and hanging out with his buddies.\n\n\nPRIMARY STAGING DETAILS: 09-06-19 \nStaging Time: 07:45 AM\n \nChapel Hill Mortuary\n6300 Hwy 30\nCedar Hill\, Missouri 63016\n\n\nRide Captain: \nBrad “Backdraft” Hahn\npgr_bkdft@hotmail.com\n\n\nSpecial Instructions: \nFlag line during visitation: 8:00 AM – 9:00 AM\nService: 9:00 AM\nEscort immediately following Service to Jefferson Barracks National Cemetery (18mi) for interment with full military honors.\nJB time: 10:30 AM\nSupport / Flags: Russ & Sandy Million\nWeather: Sunny 85 ° travel / dress accordingly. Hydrate.\n\nFlags & Water:\nFlags will be provided\nIf you have large bike flags\, please bring them.\nWater will be provided.\n\n\n\nSubmitted By: Dave Beck \nPosition: Missouri Assistant State Captain \n\nNote: You do not have to own/ride a motorcycle or be a veteran to join\, and membership is Free. The only requirement is RESPECT! To subscribe to receive mission notices\, log into the National Site and click on the Members tab at the top. Select the Subscribe to PGR Missions option.\n Print This Page
URL:https://www.patriotguard.org/mission/paul-edward-dean/
CATEGORIES:Honor Mission
END:VEVENT
END:VCALENDAR