BEGIN:VCALENDAR
VERSION:2.0
PRODID:-//Patriot Guard Riders - ECPv5.6.0//NONSGML v1.0//EN
CALSCALE:GREGORIAN
METHOD:PUBLISH
X-WR-CALNAME:Patriot Guard Riders
X-ORIGINAL-URL:https://www.patriotguard.org
X-WR-CALDESC:Events for Patriot Guard Riders
BEGIN:VTIMEZONE
TZID:America/New_York
BEGIN:DAYLIGHT
TZOFFSETFROM:-0500
TZOFFSETTO:-0400
TZNAME:EDT
DTSTART:20160313T070000
END:DAYLIGHT
BEGIN:STANDARD
TZOFFSETFROM:-0400
TZOFFSETTO:-0500
TZNAME:EST
DTSTART:20161106T060000
END:STANDARD
END:VTIMEZONE
BEGIN:VEVENT
DTSTART;TZID=America/New_York:20160711T090000
DTEND;TZID=America/New_York:20160711T110000
DTSTAMP:20210513T001759
CREATED:20160711T130000Z
LAST-MODIFIED:20191201T144520Z
UID:410765-1468227600-1468234800@www.patriotguard.org
SUMMARY:Paul David Pluhar\, USMC
DESCRIPTION:Sgt Paul David Pluhar\, Vietnam Veteran – Grand Junction\, CO\, 11 Jul 2016 \nWe have been invited to attend the Funeral of Sgt Paul David Pluhar\, Veteran US Marine Corps Vietnam \nInterment 1300(1pm) 11 Jul at\nVeterans Memorial Cemetery\n2830 Riverside Parkway\nGrand Junction\, CO \nStage 12:15pm at Shelter Area \nRide Captain:\nArt Edwards\nharleyroadk@yahoo.com
URL:https://www.patriotguard.org/mission/paul-david-pluhar-usmc/
CATEGORIES:Archive
END:VEVENT
END:VCALENDAR