BEGIN:VCALENDAR
VERSION:2.0
PRODID:-//Patriot Guard Riders - ECPv5.6.0//NONSGML v1.0//EN
CALSCALE:GREGORIAN
METHOD:PUBLISH
X-WR-CALNAME:Patriot Guard Riders
X-ORIGINAL-URL:https://www.patriotguard.org
X-WR-CALDESC:Events for Patriot Guard Riders
BEGIN:VTIMEZONE
TZID:America/New_York
BEGIN:DAYLIGHT
TZOFFSETFROM:-0500
TZOFFSETTO:-0400
TZNAME:EDT
DTSTART:20160313T070000
END:DAYLIGHT
BEGIN:STANDARD
TZOFFSETFROM:-0400
TZOFFSETTO:-0500
TZNAME:EST
DTSTART:20161106T060000
END:STANDARD
END:VTIMEZONE
BEGIN:VEVENT
DTSTART;TZID=America/New_York:20160701T090000
DTEND;TZID=America/New_York:20160701T110000
DTSTAMP:20210512T120306
CREATED:20160701T130000Z
LAST-MODIFIED:20191201T145011Z
UID:411206-1467363600-1467370800@www.patriotguard.org
SUMMARY:Paul B. Redlich\, USA
DESCRIPTION:The family  of United States Army Major Paul Brohan Redlich have requested that the  Patriot Guard Riders (PGR) and the Shasta Veterans Escort (SVE) provide  escort services for this fallen Veteran to the Northern California  Veterans Cemetery (NCVC) in Igo\, CA on July 1\, 2016.\n\nMajor  Redlich served in the United States Army in the Intelligence field from  1963 to 1975.  Major Redlich served from 1968 to 1969 in Vietnam and  was awarded the Vietnam Service Medal w/4 Bronze Stars and the Republic  of Vietnam Combat Medal w/60 Device. \nStage        Design Time and Tile Clear Creek Road and Hwy 273\nStage        0830\nBriefing     0845\nKSU          0900\nService     0930\nCremation/Chapel \nRide and Road Captains requested. \nRobert V. Prosser\n530 472-3350\nbvprosser@yahoo.com
URL:https://www.patriotguard.org/mission/paul-b-redlich-usa/
CATEGORIES:Archive
END:VEVENT
END:VCALENDAR