BEGIN:VCALENDAR
VERSION:2.0
PRODID:-//Patriot Guard Riders - ECPv5.3.2.1//NONSGML v1.0//EN
CALSCALE:GREGORIAN
METHOD:PUBLISH
X-WR-CALNAME:Patriot Guard Riders
X-ORIGINAL-URL:https://www.patriotguard.org
X-WR-CALDESC:Events for Patriot Guard Riders
BEGIN:VTIMEZONE
TZID:America/New_York
BEGIN:DAYLIGHT
TZOFFSETFROM:-0500
TZOFFSETTO:-0400
TZNAME:EDT
DTSTART:20190310T070000
END:DAYLIGHT
BEGIN:STANDARD
TZOFFSETFROM:-0400
TZOFFSETTO:-0500
TZNAME:EST
DTSTART:20191103T060000
END:STANDARD
END:VTIMEZONE
BEGIN:VEVENT
DTSTART;VALUE=DATE:20190806
DTEND;VALUE=DATE:20190807
DTSTAMP:20210402T074631
CREATED:20190803T140307Z
LAST-MODIFIED:20190803T140307Z
UID:169567-1565049600-1565135999@www.patriotguard.org
SUMMARY:Paul A Manik
DESCRIPTION:Honor Mission\nPaul A Manik\, POW/MIA\, Veteran\nUSA – WWII\nHolly\, Michigan – 08-06-19\n\n\n\nABOUT THE MISSION: \nThe family of Paul A Manik has invited the Patriot Guard Riders to stand a silent flag line to honor Paul’s service to our country. Paul Manik proudly served his country in the Army during World War II and was captured\, becoming a POW for 9 months in Germany. He was transferred to three different POW camps\, the first one being Stalag 22A in Limburg\, number 2 was Stalag 3A in Lukenwalde and the third one Stalag 11a in Altongranola where he ultimately escaped with his best friend who he was captured with. After returning home he became a bronze star recipient securing a job with Kroger and Twin Pines Dairy where he retired. His hobbies include gardening and going to the Symphony. His pride and joy was a hybrid maple tree he started to grow 15 years ago and he enjoyed classical music. Paul is preceded in death by his wife Rose\, and he will be missed by many.\nObituary\n\n\nPRIMARY STAGING DETAILS: 08-06-19 \nStaging Time: 12:30 PM\n \nMcDonalds15187 N. Holly Rd\nHolly\, Michigan 48442\nMap\n\n\nRide Captain: \n”Doc” Vince\n248-854-0329\n\n\nSpecial Instructions: \n\n\nFlags & Water:\nFlags will not be provided\nIf you have large bike flags\, please bring them.\nWater WILL NOT be provided\, please bring your own.\n\n\n\nSubmitted By: Alan Niemeyer \nPosition: Michigan State Captain \n\nNote: You do not have to own/ride a motorcycle or be a veteran to join\, and membership is Free. The only requirement is RESPECT! To subscribe to receive mission notices\, log into the National Site and click on the Members tab at the top. Select the Subscribe to PGR Missions option.\n Print This Page
URL:https://www.patriotguard.org/mission/paul-a-manik/
CATEGORIES:Honor Mission
END:VEVENT
END:VCALENDAR