BEGIN:VCALENDAR
VERSION:2.0
PRODID:-//Patriot Guard Riders - ECPv5.3.2.1//NONSGML v1.0//EN
CALSCALE:GREGORIAN
METHOD:PUBLISH
X-WR-CALNAME:Patriot Guard Riders
X-ORIGINAL-URL:https://www.patriotguard.org
X-WR-CALDESC:Events for Patriot Guard Riders
BEGIN:VTIMEZONE
TZID:America/New_York
BEGIN:DAYLIGHT
TZOFFSETFROM:-0500
TZOFFSETTO:-0400
TZNAME:EDT
DTSTART:20190310T070000
END:DAYLIGHT
BEGIN:STANDARD
TZOFFSETFROM:-0400
TZOFFSETTO:-0500
TZNAME:EST
DTSTART:20191103T060000
END:STANDARD
END:VTIMEZONE
BEGIN:VEVENT
DTSTART;VALUE=DATE:20190614
DTEND;VALUE=DATE:20190615
DTSTAMP:20210405T125354
CREATED:20190611T222326Z
LAST-MODIFIED:20190611T222326Z
UID:164459-1560470400-1560556799@www.patriotguard.org
SUMMARY:Pattie Ann Holmes
DESCRIPTION:Honor Mission\nPattie Ann Holmes \, Veteran\nUSN \, USNR –\nElizabeth City\, North Carolina – 06-14-19\n\n\n\n\nABOUT THE MISSION: \nSK2 Pattie Ann Arnold Holmes served her country honorably as a veteran of the U. S. Navy. She served 4 yrs and 10 months active duty and 3 yrs 7 months in the USNR. Her awards include: NAVRES Meritorious Service Medal\, National Defense Medal\, Navy Achievement Medal\, Navy God Conduct Award and Expert Rifle (M-16) Medal.\n\n\nPRIMARY STAGING DETAILS: 06-14-19 \nStaging Time: 12:30  \nTwiford Funeral Home\n405 East Church St.\nElizabeth City\, North Carolina 27909\n\n\nRide Captain: \nDavid “Boweavel” Chappelle\n757-681-3622\n\n\nSpecial Instructions: \nWe will set the Flag Line for the arrival of Family and Friends.  Following her Memorial Service\, we will mount up and escort SK2 Holmes to her Following Resting Place..\n\nFlags & Water:\nFlags will be provided\nIf you have large bike flags\, please bring them.\nWater will be provided.\n\n\n\nSubmitted By: Roy Hankinson \nPosition: North Carolina Assistant State Captain \n\nNote: You do not have to own/ride a motorcycle or be a veteran to join\, and membership is Free. The only requirement is RESPECT! To subscribe to receive mission notices\, log into the National Site and click on the Members tab at the top. Select the Subscribe to PGR Missions option.\n Print This Page
URL:https://www.patriotguard.org/mission/pattie-ann-holmes/
CATEGORIES:Honor Mission
END:VEVENT
END:VCALENDAR