BEGIN:VCALENDAR
VERSION:2.0
PRODID:-//Patriot Guard Riders - ECPv5.3.2.1//NONSGML v1.0//EN
CALSCALE:GREGORIAN
METHOD:PUBLISH
X-WR-CALNAME:Patriot Guard Riders
X-ORIGINAL-URL:https://www.patriotguard.org
X-WR-CALDESC:Events for Patriot Guard Riders
BEGIN:VTIMEZONE
TZID:America/New_York
BEGIN:DAYLIGHT
TZOFFSETFROM:-0500
TZOFFSETTO:-0400
TZNAME:EDT
DTSTART:20190310T070000
END:DAYLIGHT
BEGIN:STANDARD
TZOFFSETFROM:-0400
TZOFFSETTO:-0500
TZNAME:EST
DTSTART:20191103T060000
END:STANDARD
END:VTIMEZONE
BEGIN:VEVENT
DTSTART;VALUE=DATE:20190816
DTEND;VALUE=DATE:20190817
DTSTAMP:20210402T134204
CREATED:20190813T231411Z
LAST-MODIFIED:20190813T231411Z
UID:170765-1565913600-1565999999@www.patriotguard.org
SUMMARY:Patrick Ray Dupuis
DESCRIPTION:Honor Mission\nPatrick Ray Dupuis\, Veteran\nUSA – Vietnam\nHouston\, Texas – 08-16-19\n\n\n \n\nABOUT THE MISSION: \nPatrick Ray Dupuis proudly served in the United States Army and is a Vietnam Veteran. More information\, if available\, at the mission briefing.\n\n\nPRIMARY STAGING DETAILS: 08-16-19 \nStaging Time: 10:30 am\n \nHouston National Cemetery\n10410 Veterans Memorial Dr.\nHouston\, Texas 77038\nMap\n\n\nRide Captain: \nBobby Shafer\n(713) 540-0492\nbobshafer54@gmail.com\n\n\nSpecial Instructions: \nBriefing Time: 11:00\nIn position time or KSU: 11:15\nGate Time: 11:30\nFlag line at Houston National Cemetery. Request Large Flag Bikes\, weather permitting\, to escort from Welcome Center to Shelter.\n\nFlags & Water:\nFlags will be provided\nIf you have large bike flags\, please bring them.\nWater will be provided.\n\n\n\nSubmitted By: Steve Cox \nPosition: Texas Ride Captain \n\nNote: You do not have to own/ride a motorcycle or be a veteran to join\, and membership is Free. The only requirement is RESPECT! To subscribe to receive mission notices\, log into the National Site and click on the Members tab at the top. Select the Subscribe to PGR Missions option.\n Print This Page
URL:https://www.patriotguard.org/mission/patrick-ray-dupuis/
CATEGORIES:Honor Mission
END:VEVENT
END:VCALENDAR