BEGIN:VCALENDAR
VERSION:2.0
PRODID:-//Patriot Guard Riders - ECPv5.6.0//NONSGML v1.0//EN
CALSCALE:GREGORIAN
METHOD:PUBLISH
X-WR-CALNAME:Patriot Guard Riders
X-ORIGINAL-URL:https://www.patriotguard.org
X-WR-CALDESC:Events for Patriot Guard Riders
BEGIN:VTIMEZONE
TZID:America/New_York
BEGIN:DAYLIGHT
TZOFFSETFROM:-0500
TZOFFSETTO:-0400
TZNAME:EDT
DTSTART:20160313T070000
END:DAYLIGHT
BEGIN:STANDARD
TZOFFSETFROM:-0400
TZOFFSETTO:-0500
TZNAME:EST
DTSTART:20161106T060000
END:STANDARD
END:VTIMEZONE
BEGIN:VEVENT
DTSTART;TZID=America/New_York:20160627T090000
DTEND;TZID=America/New_York:20160627T110000
DTSTAMP:20210512T230743
CREATED:20160627T130000Z
LAST-MODIFIED:20191201T144811Z
UID:411026-1467018000-1467025200@www.patriotguard.org
SUMMARY:Patrick J. Sheehan\, USAF Veteran / Ocean Springs
DESCRIPTION:US Air Force Veteran\nPatrick J. Sheehan (58)\nMonday 27 June 2016\nOcean Springs/Biloxi\, MS\n\n\n\nWe are sad to report the death of US Air Force Veteran Patrick J Sheehan (58). \nMr Sheehan served 4 years active duty Air Force\, then served 22 years in the Air Force Reserves.  He received the Air Force Commendation Medal\, Air Force Achievement Medal\, Air Force Outstanding Unit Award\, Air Force Reserve Forces Meritorious Service Medal\, National Defense Service Medal\, Air Force Longevity Service Medal\, Armed Forces Reserve Medal\, Small Arms Expert Marksmanship Ribbon  (rifle) and the Air Force Training Medal. \nThe family of Mr. Sheehan has requested the PATRIOT GUARD RIDERS help honor their loved one. \nPRIMARY STAGING\n10:00 am\nMonday June 27\, 2016\nSouthern Mississippi Funeral Services\n6631 Washington Ave\nOcean Springs\,  MS \nThe Patriot Guard will provide a flag line at the door for visitation from 10:30 am -11:30 am.\n\nESCORT\nEscort after 11:30 Memorial Service to\nBiloxi National Cemetery\n400 Veterans Ave\nBiloxi MS \n12:30 pm committal. \nRC\nSteve Rife\n228-697-0470
URL:https://www.patriotguard.org/mission/patrick-j-sheehan-usaf-veteran-ocean-springs/
CATEGORIES:Archive
END:VEVENT
END:VCALENDAR