BEGIN:VCALENDAR
VERSION:2.0
PRODID:-//Patriot Guard Riders - ECPv5.6.0//NONSGML v1.0//EN
CALSCALE:GREGORIAN
METHOD:PUBLISH
X-WR-CALNAME:Patriot Guard Riders
X-ORIGINAL-URL:https://www.patriotguard.org
X-WR-CALDESC:Events for Patriot Guard Riders
BEGIN:VTIMEZONE
TZID:America/New_York
BEGIN:DAYLIGHT
TZOFFSETFROM:-0500
TZOFFSETTO:-0400
TZNAME:EDT
DTSTART:20150308T070000
END:DAYLIGHT
BEGIN:STANDARD
TZOFFSETFROM:-0400
TZOFFSETTO:-0500
TZNAME:EST
DTSTART:20151101T060000
END:STANDARD
END:VTIMEZONE
BEGIN:VEVENT
DTSTART;TZID=America/New_York:20150314T090000
DTEND;TZID=America/New_York:20150314T110000
DTSTAMP:20210513T221112
CREATED:20150314T130000Z
LAST-MODIFIED:20191201T130013Z
UID:396250-1426323600-1426330800@www.patriotguard.org
SUMMARY:Parker Withrow
DESCRIPTION:Updated 13 Mar 15  0915 edt  S Sturgis \n\nThe family of Veteran Parker Withrow has asked the Patriot Guard to stand in honor of his service to our great country. Parker served in the US Navy and is a Vietnam veteran \n\nDate/time: 10:00 AM\, Saturday\, 14 March\, 2015 \n\nRally point: Packwood Christian Church\n203 S Church St\nPackwood IA \n\nhttp://mapq.st/1C8OsAq \nRally time: 8:30 AM \n\nInterment at a later date. \n\nRC:\nJim Clark\njim@clarkglass.com\n        515 250 6200 \nPosted by\nSteve Cox\nSC Iowa
URL:https://www.patriotguard.org/mission/parker-withrow/
CATEGORIES:Archive
END:VEVENT
END:VCALENDAR