BEGIN:VCALENDAR
VERSION:2.0
PRODID:-//Patriot Guard Riders - ECPv5.6.0//NONSGML v1.0//EN
CALSCALE:GREGORIAN
METHOD:PUBLISH
X-WR-CALNAME:Patriot Guard Riders
X-ORIGINAL-URL:https://www.patriotguard.org
X-WR-CALDESC:Events for Patriot Guard Riders
BEGIN:VTIMEZONE
TZID:America/New_York
BEGIN:DAYLIGHT
TZOFFSETFROM:-0500
TZOFFSETTO:-0400
TZNAME:EDT
DTSTART:20160313T070000
END:DAYLIGHT
BEGIN:STANDARD
TZOFFSETFROM:-0400
TZOFFSETTO:-0500
TZNAME:EST
DTSTART:20161106T060000
END:STANDARD
END:VTIMEZONE
BEGIN:VEVENT
DTSTART;TZID=America/New_York:20160808T090000
DTEND;TZID=America/New_York:20160808T110000
DTSTAMP:20210512T025238
CREATED:20160808T130000Z
LAST-MODIFIED:20191201T143732Z
UID:410048-1470646800-1470654000@www.patriotguard.org
SUMMARY:Parish L. Tanner
DESCRIPTION:The Patriot Guard has been requested by the family of Parish L Tanner\, to provide an escort in honor of his service to this Great Nation. Parish served proudly in the USMC from 1961 – 1969 including on active duty from 1965 – 1967. Parish was a member of the American Legion\, past member of ABATE\, and a life member of Harley Owner’s Group (HOG). \nMEMORIAL CEREMONY \nDate: Mon\, 8 August 16\nTime: 11:30 hrs (11:30 am) \nPlace: Kirlan Egan Butler Funeral Home\n900 S 6th St\nSpringfield\, IL \nStaging: 10:45 hrs (10:45 am) at the funeral home. Line up per RC instructions \nFollowing the ceremony we will escort family and friends to Camp Butler National Cemetery for Parish’s interment. Military rites will be accorded at the cemetery. \nASRC: Bruce Martin/w flag support  (217) 629-7660
URL:https://www.patriotguard.org/mission/parish-l-tanner/
CATEGORIES:Archive
END:VEVENT
END:VCALENDAR