BEGIN:VCALENDAR
VERSION:2.0
PRODID:-//Patriot Guard Riders - ECPv5.3.2.1//NONSGML v1.0//EN
CALSCALE:GREGORIAN
METHOD:PUBLISH
X-WR-CALNAME:Patriot Guard Riders
X-ORIGINAL-URL:https://www.patriotguard.org
X-WR-CALDESC:Events for Patriot Guard Riders
BEGIN:VTIMEZONE
TZID:America/New_York
BEGIN:DAYLIGHT
TZOFFSETFROM:-0500
TZOFFSETTO:-0400
TZNAME:EDT
DTSTART:20190310T070000
END:DAYLIGHT
BEGIN:STANDARD
TZOFFSETFROM:-0400
TZOFFSETTO:-0500
TZNAME:EST
DTSTART:20191103T060000
END:STANDARD
END:VTIMEZONE
BEGIN:VEVENT
DTSTART;VALUE=DATE:20190530
DTEND;VALUE=DATE:20190531
DTSTAMP:20210403T020259
CREATED:20190529T125450Z
LAST-MODIFIED:20190529T125450Z
UID:162721-1559174400-1559260799@www.patriotguard.org
SUMMARY:Pale Lemanua
DESCRIPTION:Honor Mission\nPale Lemanua\, Retired\nUSA\nLeavenworth\, Kansas – 05-30-19\n\n\n\nABOUT THE MISSION: \nPale Lemanua served in the United States Army for twenty years and twenty eight days. During his time in service\, he was awarded the Meritorious Service Medal w/2nd Award; The Joint Service Commendation Medal; the Army Commendation Medal\, 5th Award; the Army Achievement Medal\, 4th Award; the Good Conduct Medal\, 6th Award; the National Defense Service Medal\, 2nd Award; the NCO Professional Development Ribbon w/Number 2; the Army Service Ribbon and the Overseas Service Ribbon\, 3rd Award.\n\n\nPRIMARY STAGING DETAILS: 05-30-19 \nStaging Time: 9:30 am  \nR. L. Leintz Funeral Home\n4701 10th Avenue\nLeavenworth\, Kansas 66048\n\n\nRide Captain: \nRon “Grumpy” Wurtele\nrwurtele@kc.rr.com\n(913) 683-4652\n\n\nSpecial Instructions: \nRiders brief at 9:30 A.M. and stand flag line during visitation from 10:00 A.M. until 12:00 P.M. Service begins at noon. Depart funeral home at approximately 1:10 P.M. for Leavenworth National Cemetery for 1:30 P.M service at the shelter.\n\n\nFlags & Water:\nFlags will be provided\nIf you have large bike flags\, please bring them.\nWater WILL NOT be provided\, please bring your own.\n\nSubmitted By: Ronald Wurtele \nPosition: Kansas Ride Captain \n\nNote: You do not have to own/ride a motorcycle or be a veteran to join\, and membership is Free. The only requirement is RESPECT! To subscribe to receive mission notices\, log into the National Site and click on the Members tab at the top. Select the Subscribe to PGR Missions option.\n Print This Page
URL:https://www.patriotguard.org/mission/pale-lemanua/
CATEGORIES:Honor Mission
END:VEVENT
END:VCALENDAR