BEGIN:VCALENDAR
VERSION:2.0
PRODID:-//Patriot Guard Riders - ECPv5.3.2.1//NONSGML v1.0//EN
CALSCALE:GREGORIAN
METHOD:PUBLISH
X-WR-CALNAME:Patriot Guard Riders
X-ORIGINAL-URL:https://www.patriotguard.org
X-WR-CALDESC:Events for Patriot Guard Riders
BEGIN:VTIMEZONE
TZID:America/New_York
BEGIN:DAYLIGHT
TZOFFSETFROM:-0500
TZOFFSETTO:-0400
TZNAME:EDT
DTSTART:20190310T070000
END:DAYLIGHT
BEGIN:STANDARD
TZOFFSETFROM:-0400
TZOFFSETTO:-0500
TZNAME:EST
DTSTART:20191103T060000
END:STANDARD
END:VTIMEZONE
BEGIN:VEVENT
DTSTART;VALUE=DATE:20190816
DTEND;VALUE=DATE:20190817
DTSTAMP:20210402T104129
CREATED:20190814T222720Z
LAST-MODIFIED:20190814T222720Z
UID:170949-1565913600-1565999999@www.patriotguard.org
SUMMARY:Owen Dee Bauer
DESCRIPTION:Honor Mission\nOwen Dee Bauer\, Veteran\nUSN\, USNR – Vietnam\nSpringfield\, Missouri – 08-16-19\n\n\n\nABOUT THE MISSION: \nThe family of USN\, RD2 Owen Dee Bauer has honored the Patriot Guard Riders with a request to provide an escort from the Greenlawn South Funeral Home to the Missouri Veterans Cemetery and stand a flag line at his committal service where full military honors will be rendered. Hero Bauer enlisted in the United States Navy in February 1965 and proudly and honorably served our country aboard the USS John R. Perry as a Radarman 2nd Class (E-5) until February 1969. He was then transferred to Naval Reserve status and served through January 1971. His service included 3 years in the Korean Conflict during which he earned the National Defense Service Medal. His last ship assignment was on the USS Bryce Canyon. Owen is survived by his wife\, 1 brother\, 2 daughters\, 6 grandchildren and 1 great-grandchild. After the Navy\, he worked for Clayton Marina in Clayton\, NY\, and for A&G Vending in Endicott\, NY.\n\n\nPRIMARY STAGING DETAILS: 08-16-19 \nStaging Time: 09:45 AM\n \nGreenlawn South\nFH441 W. Battlefield\nSpringfield\, Missouri 65807\n\n\nRide Captain: \nSteve Simko\n(210) 621-8623\ncsdsimko@sbcglobal.net\n\n\nSpecial Instructions: \nSTAGE: 9:45 am\nBRIEF: 10:00 am (Family will arrive at 10 am)\nFINAL SALUTE: 10:20 am\nESCORT: 10:30 am\nCOMMITTAL SERVICE: 11:00 am at Missouri Veterans Cemetery\, 5201 S. Southwood\, Springfield\, MO 65807.\nWEATHER FORECAST: 77˚ and 7% chance of precipitation\, wind 10 mph.\n\n\nFlags & Water:\nFlags will be provided\nIf you have large bike flags\, please bring them.\nWater WILL NOT be provided\, please bring your own.\n\n\n\nSubmitted By: steve simko \nPosition: Missouri Ride Captain \n\nNote: You do not have to own/ride a motorcycle or be a veteran to join\, and membership is Free. The only requirement is RESPECT! To subscribe to receive mission notices\, log into the National Site and click on the Members tab at the top. Select the Subscribe to PGR Missions option.\n Print This Page
URL:https://www.patriotguard.org/mission/owen-dee-bauer/
CATEGORIES:Honor Mission
END:VEVENT
END:VCALENDAR