BEGIN:VCALENDAR
VERSION:2.0
PRODID:-//Patriot Guard Riders - ECPv5.6.0//NONSGML v1.0//EN
CALSCALE:GREGORIAN
METHOD:PUBLISH
X-WR-CALNAME:Patriot Guard Riders
X-ORIGINAL-URL:https://www.patriotguard.org
X-WR-CALDESC:Events for Patriot Guard Riders
BEGIN:VTIMEZONE
TZID:America/New_York
BEGIN:DAYLIGHT
TZOFFSETFROM:-0500
TZOFFSETTO:-0400
TZNAME:EDT
DTSTART:20160313T070000
END:DAYLIGHT
BEGIN:STANDARD
TZOFFSETFROM:-0400
TZOFFSETTO:-0500
TZNAME:EST
DTSTART:20161106T060000
END:STANDARD
END:VTIMEZONE
BEGIN:VEVENT
DTSTART;TZID=America/New_York:20160730T090000
DTEND;TZID=America/New_York:20160730T110000
DTSTAMP:20210512T132444
CREATED:20160730T130000Z
LAST-MODIFIED:20191201T144147Z
UID:410441-1469869200-1469876400@www.patriotguard.org
SUMMARY:Oscar Nunez Ruiz III\, 73\, USAF-USAFR Veteran
DESCRIPTION:Oscar “Oz” Nunez Ruiz of Prescott\, AZ died on July 5\, 2016 at the age of 73. Survivors include his wife\, Letitia (Tish) Rentfrow Ruiz of Prescott AZ; two brothers and a sister. \nOscar joined the United States Air Force after he graduated from high school at age 17\, and was stationed in Texas\, Alabama and Arizona. As an air policeman in two fighter intercept squadrons\, he was awarded the Good Conduct Medal in 1963 and 1964 for demonstration of exemplary behavior\, efficiency and fidelity. Honorably discharged in 1964\, he served two years in the Reserves in San Diego. \nOz and Tish met on an organized bike club ride and married in 1977. He worked for Pacific Bell and AT&T in Southern California before retiring in 2000\, when the couple traveled around the United States for five years before settling in Prescott. \nOZ was a Charter member of American Legion Post 6 Riders (Prescott)\, and also a member of the Patriot Guard Riders. \nOz will be carried to the memorial by his wife on his trike (per his request) in a motorcade of fellow members in tribute to his service. A Memorial service with full military honors and a celebration of life is scheduled at 11 am on Saturday\, July 30\, in the Pine Lakes clubhouse at 3707 W. Pine Lakes Drive in Prescott\, AZ. The family of OZ has requested the Presence of the Patriot Guard Riders for Services and Military Honors and his wife Tish is hoping for a great turn out from ALR & PGR. \nTHIS IS A TWO-PART MISSION. \nPart I (Motorcycle escort only; no flag line) \nDATE: Saturday\, July 30\, 2016 \nSTAGING:\n0915 hours\nMaverick Gas Station\n3576 N. Glassford Hill Rd.\nPrescott Valley\, AZ 86314 \nMap Link: http://tinyurl.com/zyx2wge \nKSU:  0945 to Pine Lakes Clubhouse \nROAD GUARDS ARE NEEDED FOR PART I. PLEASE CONTACT THE SRG AS TO YOUR AVAILABILITY. \nRC and SRG\nSteve “wingzit” McRoberts\n619-823-8502\npgrwingzit@gmail.com \nPart II (Flag line)\nDATE: Saturday\, July 30\, 2016 \nSTAGING:\n1000 hours\nPine Lakes Clubhouse\n3707 W. Pine Lakes Dr\nPrescott\, AZ 86305 \nMap Link: http://tinyurl.com/jfm4r7l (GPS might not be accurate) \n(Directions: You will see a green sign on Iron Springs Rd telling you to turn LEFT on Hereford which will take you to W. Pine Lakes Dr.\nThis is past the tennis courts on W. Pine Lakes Dr. You will see a sign for Pine Lakes. Just park in the Clubhouse parking lot.)\nWe will await the arrival of the escort and then do our song\, prayer and flag line with the family. \nCo-Ride Captain & Flag Support for Part II\nGary “Gman” Sheldon\n928-848-9850\nBuckshotjoe1@hotmail.com
URL:https://www.patriotguard.org/mission/oscar-nunez-ruiz-iii-73-usaf-usafr-veteran/
CATEGORIES:Archive
END:VEVENT
END:VCALENDAR