BEGIN:VCALENDAR
VERSION:2.0
PRODID:-//Patriot Guard Riders - ECPv5.3.2.1//NONSGML v1.0//EN
CALSCALE:GREGORIAN
METHOD:PUBLISH
X-WR-CALNAME:Patriot Guard Riders
X-ORIGINAL-URL:https://www.patriotguard.org
X-WR-CALDESC:Events for Patriot Guard Riders
BEGIN:VTIMEZONE
TZID:America/New_York
BEGIN:DAYLIGHT
TZOFFSETFROM:-0500
TZOFFSETTO:-0400
TZNAME:EDT
DTSTART:20190310T070000
END:DAYLIGHT
BEGIN:STANDARD
TZOFFSETFROM:-0400
TZOFFSETTO:-0500
TZNAME:EST
DTSTART:20191103T060000
END:STANDARD
END:VTIMEZONE
BEGIN:VEVENT
DTSTART;VALUE=DATE:20190612
DTEND;VALUE=DATE:20190613
DTSTAMP:20210405T014529
CREATED:20190610T045548Z
LAST-MODIFIED:20190610T045548Z
UID:164028-1560297600-1560383999@www.patriotguard.org
SUMMARY:Oscar M. Bushwar
DESCRIPTION:Honor Mission\nOscar M. Bushwar\, Retired\nUSAF – WWII\, Korea\, Vietnam\nDallas\, Texas – 06-12-19\n\n\n \n\nABOUT THE MISSION: \nOscar Bushwar joined the United States Air Force\, where he proudly served his country from 1942 until the end of the war. He later reentered the Air Force and served another 16 years until his retirement. During his time of service as a pilot\, he served during WWII\, Korea\, the Cuban Crisis and Vietnam.\n\n\nPRIMARY STAGING DETAILS: 06-12-19 \nStaging Time: 12:45 pm\n \nDFW National Cemetery\n2000 Mountain Creek Pkwy\nDallas\, Texas 75211\n\n\nRide Captain: \nDan Mathys\npgrdan1@gmail.com\n(817) 300-5542\n\n\nSpecial Instructions: \nBriefing Time 1:00\nIn Position/KSU Time: 1:15\nStarting Time: 1:30\nPrior to the riders briefing at the Visitor Center\, four honor bikes will be selected to accompany the coach to the committal shelter. After the riders briefing\, the PGR will stand the flag line at the designated shelter. There we will “Stand Tall and Silent” in honor of an American Hero\, Major Bushwar\, his family and friends. Upon conclusion of the Interment Service\, the flags will be furled and returned to storage\, followed by rider debrief and dismissal.\n\nFlags & Water:\nFlags will be provided\nIf you have large bike flags\, please bring them.\nWater WILL NOT be provided\, please bring your own.\n\n\n\n\nSubmitted By: Dan Mathys \nPosition: Texas Ride Captain \n\nNote: You do not have to own/ride a motorcycle or be a veteran to join\, and membership is Free. The only requirement is RESPECT! To subscribe to receive mission notices\, log into the National Site and click on the Members tab at the top. Select the Subscribe to PGR Missions option.\n Print This Page
URL:https://www.patriotguard.org/mission/oscar-m-bushwar/
CATEGORIES:Honor Mission
END:VEVENT
END:VCALENDAR