BEGIN:VCALENDAR
VERSION:2.0
PRODID:-//Patriot Guard Riders - ECPv5.3.2.1//NONSGML v1.0//EN
CALSCALE:GREGORIAN
METHOD:PUBLISH
X-WR-CALNAME:Patriot Guard Riders
X-ORIGINAL-URL:https://www.patriotguard.org
X-WR-CALDESC:Events for Patriot Guard Riders
BEGIN:VTIMEZONE
TZID:America/New_York
BEGIN:DAYLIGHT
TZOFFSETFROM:-0500
TZOFFSETTO:-0400
TZNAME:EDT
DTSTART:20190310T070000
END:DAYLIGHT
BEGIN:STANDARD
TZOFFSETFROM:-0400
TZOFFSETTO:-0500
TZNAME:EST
DTSTART:20191103T060000
END:STANDARD
END:VTIMEZONE
BEGIN:VEVENT
DTSTART;VALUE=DATE:20190918
DTEND;VALUE=DATE:20190919
DTSTAMP:20210401T103951
CREATED:20190917T135343Z
LAST-MODIFIED:20190917T135343Z
UID:174512-1568764800-1568851199@www.patriotguard.org
SUMMARY:Oscar L. Harrison
DESCRIPTION:Honor Mission\nOscar L. Harrison\, Retired\nUSA – Vietnam\nGrand Prairie\, Texas – 09-18-19\n\n\n \n\nABOUT THE MISSION: \nSFC Oscar L. Harrison served for 30 years.\n\n\nPRIMARY STAGING DETAILS: 09-18-19 \nStaging Time: 8:30 am\n \nBean Massey Burge\n2951 South Belt Line Road\nGrand Prairie\, Texas 75052\n\n\nRide Captain: \nPerry Sampley\nPSampley@msn.com\n214-334-7417\n\n\nSpecial Instructions: \nStarting Time 9:30 am\nAfter the Mission Briefing the Riders will establish the Flag Line and prepare to receive the family and guests of Mr. Harrison. When the service begins\, Riders will receive the Safety Briefing and prepare to accompany the procession to the cemetery. Procession Escort Provided\n\nFlags & Water:\nFlags will be provided\nIf you have large bike flags\, please bring them.\nWater will be provided.\n\nSTAGING #2 DETAILS: 09-18-19 \nStaging Time: 10:30  \nDallas-Fort Worth National Cemetery\n2000 Mountain Creek Parkway\nDallas\, Texas 75211\n\n\nRide Captain: \nPerry Sampley\nPSampley@msn.com\n214-334-7417\n\n\nSpecial Instructions: \nStarting Time 11:15am\nAfter arriving with the procession riders will stage at the Visitor’s Center of DFW National Cemetery. After the mission briefing\, Honor Bikes will be Selected\, and they will move to the appropriate staging Lane. Remaining riders will proceed to the assigned shelter\, set the flags and await the arrival of Mr. Harrison and Family. After the service\, flags will be returned to the storage locker and riders will be debriefed and dismissed.\n\nFlags & Water:\nFlags will be provided\nIf you have large bike flags\, please bring them.\nWater will be provided.\n\n\n\nSubmitted By: Dan Mathys \nPosition: Texas Ride Captain \n\nNote: You do not have to own/ride a motorcycle or be a veteran to join\, and membership is Free. The only requirement is RESPECT! To subscribe to receive mission notices\, log into the National Site and click on the Members tab at the top. Select the Subscribe to PGR Missions option.\n Print This Page
URL:https://www.patriotguard.org/mission/oscar-l-harrison/
CATEGORIES:Honor Mission
END:VEVENT
END:VCALENDAR