BEGIN:VCALENDAR
VERSION:2.0
PRODID:-//Patriot Guard Riders - ECPv5.3.2.1//NONSGML v1.0//EN
CALSCALE:GREGORIAN
METHOD:PUBLISH
X-WR-CALNAME:Patriot Guard Riders
X-ORIGINAL-URL:https://www.patriotguard.org
X-WR-CALDESC:Events for Patriot Guard Riders
BEGIN:VTIMEZONE
TZID:America/New_York
BEGIN:DAYLIGHT
TZOFFSETFROM:-0500
TZOFFSETTO:-0400
TZNAME:EDT
DTSTART:20190310T070000
END:DAYLIGHT
BEGIN:STANDARD
TZOFFSETFROM:-0400
TZOFFSETTO:-0500
TZNAME:EST
DTSTART:20191103T060000
END:STANDARD
END:VTIMEZONE
BEGIN:VEVENT
DTSTART;VALUE=DATE:20190911
DTEND;VALUE=DATE:20190912
DTSTAMP:20210401T132356
CREATED:20190910T014922Z
LAST-MODIFIED:20190910T014922Z
UID:173322-1568160000-1568246399@www.patriotguard.org
SUMMARY:Oscar Cortez
DESCRIPTION:Honor Mission\nOscar Cortez\, Retired\nUSA – Korea\, Vietnam\nSan Antonio\, Texas – 09-11-19\n\n\n\nABOUT THE MISSION: \nThe family of Mr. Oscar Cortez\, US Army (Ret.)\, requests the presence and participation of the Patriot Guard at his services\, LEO supported procession\, and graveside rendering of military honors of their loved one. Mr. Cortez joined the U.S. Army on February 13\, 1950 at the young age of 17 and served his country for 20 years\, 2 ½ of those years spent in a P.O.W. camp in Korea\, and he also served in the Vietnam War. During his Army career he earned the P.O.W. Medal\, the Purple Heart Medal and the Republic of Vietnam Gallantry Cross with Palm Unit Citation Badge.\n\n\nPRIMARY STAGING DETAILS: 09-11-19 \nStaging Time: 08:00 AM\n \nSunset Northwest Funeral Home\n6321 Bandera Rd\nSan Antonio\, Texas 78238\nMap\n\n\nRide Captain: \nJuan “Mr. T” Tarango\njuantarango16@yahoo.com\n\n\nSpecial Instructions: \nStaging: 08:00 AM\nBriefing: 08:45 AM\nHonor Line: 08:45 AM\nKSU: 09:00 AM\nFuneral Service: 09:30 AM at St. Dominic Catholic Church\, 5919 Ingram Rd\, San Antonio\, TX 78228.\nKSU: 10:30 AM\nInterment: 11:15 AM at Fort Sam Houston National Cemetery\, 1520 Harry Wurzbach Rd\, San Antonio\, TX 78209.\n\n\nFlags & Water:\nFlags will be provided\nIf you have large bike flags\, please bring them.\nWater will be provided.\n\n\n\nSubmitted By: Lisa Menard \nPosition: Texas Ride Captain \n\nNote: You do not have to own/ride a motorcycle or be a veteran to join\, and membership is Free. The only requirement is RESPECT! To subscribe to receive mission notices\, log into the National Site and click on the Members tab at the top. Select the Subscribe to PGR Missions option.\n Print This Page
URL:https://www.patriotguard.org/mission/oscar-cortez/
CATEGORIES:Honor Mission
END:VEVENT
END:VCALENDAR