BEGIN:VCALENDAR
VERSION:2.0
PRODID:-//Patriot Guard Riders - ECPv5.3.2.1//NONSGML v1.0//EN
CALSCALE:GREGORIAN
METHOD:PUBLISH
X-WR-CALNAME:Patriot Guard Riders
X-ORIGINAL-URL:https://www.patriotguard.org
X-WR-CALDESC:Events for Patriot Guard Riders
BEGIN:VTIMEZONE
TZID:America/New_York
BEGIN:DAYLIGHT
TZOFFSETFROM:-0500
TZOFFSETTO:-0400
TZNAME:EDT
DTSTART:20190310T070000
END:DAYLIGHT
BEGIN:STANDARD
TZOFFSETFROM:-0400
TZOFFSETTO:-0500
TZNAME:EST
DTSTART:20191103T060000
END:STANDARD
END:VTIMEZONE
BEGIN:VEVENT
DTSTART;VALUE=DATE:20190814
DTEND;VALUE=DATE:20190815
DTSTAMP:20210402T144915
CREATED:20190812T143256Z
LAST-MODIFIED:20190812T143256Z
UID:170558-1565740800-1565827199@www.patriotguard.org
SUMMARY:Orlando Velazquez
DESCRIPTION:Honor Mission\nOrlando Velazquez\, Retired\nUSA\nKeller\, Texas – 08-14-19\n\n\n \n\nABOUT THE MISSION: \nFuneral Service and Interment Service\n\n\nPRIMARY STAGING DETAILS: 08-14-19 \nStaging Time: 10:00 am\n \nSt. Elizabeth Ann Seton Catholic Church\n2016 Willis Lane\nKeller\, Texas 76248\n\n\nRide Captain: \nRusty McNab\nrustymcnab@sbcglobal.net\n(817) 228-7845\n\n\nSpecial Instructions: \nBriefing Time: 10:15 am\nIn Position/KSU Time: 10:30 am\nStarting Time: 11:00 am\nThe Patriot Guard Riders will stage in the southwest church parking lot. The Flag Line will be established along the main entrance to the Parrish. Following the mission briefing\, Riders will stand the Flag Line for the arrival of the Family and friends at the Funeral Service of SGT Velazquez. After the start of the Service\, Flags will be furled and Riders dismissed.\n\nFlags & Water:\nFlags will be provided\nLarge Bike Flags will NOT be needed.\nWater will be provided.\n\nSTAGING #2 DETAILS: 08-14-19 \nStaging Time: 1:30 pm\n \nDFW National Cemetery\n2000 Mountain Creek Pkwy\nDallas\, Texas 75211\n\n\nRide Captain: \nRusty McNab\nrustymcnab@sbcglobal.net\n(817) 228-7845\n\n\nSpecial Instructions: \n\nBriefing Time: 1:30 pm\nIn Position/KSU Time: 1:45 pm\nStarting Time: 2:00 pm\nThe Patriot Guard Riders will stage at the Visitor’s Center\, DFW National Cemetery. Following the mission briefing\, Riders will proceed to the Shelter and stand the Flag Line for the Interment Service of SGT Velazquez. At the conclusion of the Service\, Flags will be furled and Riders dismissed.\n\nFlags & Water:\nFlags will be provided\nIf you have large bike flags\, please bring them.\nWater will be provided.\n\n\n\nSubmitted By: Dan Mathys \nPosition: Texas Ride Captain \n\nNote: You do not have to own/ride a motorcycle or be a veteran to join\, and membership is Free. The only requirement is RESPECT! To subscribe to receive mission notices\, log into the National Site and click on the Members tab at the top. Select the Subscribe to PGR Missions option.\n Print This Page
URL:https://www.patriotguard.org/mission/orlando-velazquez/
CATEGORIES:Honor Mission
END:VEVENT
END:VCALENDAR