BEGIN:VCALENDAR
VERSION:2.0
PRODID:-//Patriot Guard Riders - ECPv5.3.2.1//NONSGML v1.0//EN
CALSCALE:GREGORIAN
METHOD:PUBLISH
X-WR-CALNAME:Patriot Guard Riders
X-ORIGINAL-URL:https://www.patriotguard.org
X-WR-CALDESC:Events for Patriot Guard Riders
BEGIN:VTIMEZONE
TZID:America/New_York
BEGIN:DAYLIGHT
TZOFFSETFROM:-0500
TZOFFSETTO:-0400
TZNAME:EDT
DTSTART:20190310T070000
END:DAYLIGHT
BEGIN:STANDARD
TZOFFSETFROM:-0400
TZOFFSETTO:-0500
TZNAME:EST
DTSTART:20191103T060000
END:STANDARD
END:VTIMEZONE
BEGIN:VEVENT
DTSTART;VALUE=DATE:20190626
DTEND;VALUE=DATE:20190627
DTSTAMP:20210405T052123
CREATED:20190626T103447Z
LAST-MODIFIED:20190626T103447Z
UID:165834-1561507200-1561593599@www.patriotguard.org
SUMMARY:Orel Douglass\, Jr.
DESCRIPTION:Honor Mission\nOrel Douglass\, Jr.\nUSA – WWII\nUniversal City\, Texas – 06-26-19\n\n\n\nABOUT THE MISSION: \nThe family of Mr. Orel Douglass Jr.\, a US Army Veteran\, requests the presence and participation of the Patriot Guard Riders at the funeral service\, LEO supported procession\, and graveside rendering of military honors of their loved one. Mr. Douglas served in the Army from 1940 to 1945\, during WW II.\n\n\nPRIMARY STAGING DETAILS: 06-26-19 \nStaging Time: 10:00 AM\n \nFirst Baptist Church of Universal City\n1401 Pat Booker Rd\nUniversal City\, Texas 78148\nMap\n\n\nRide Captain: \nPete “Sea Dog” Johnson\npfjohn127@gmail.com\n\n\nSpecial Instructions: \nStaging: 10:00 AM\nBriefing: 10:15 AM\nService: 11:00 AM\nKSU: 12:15 PM\nInterment: Fort Sam Houston National Cemetery\, 1520 Harry Wurzbach Rd\, San Antonio\, TX 78209.\nFlags: Danette “Dani” O’Hara\n\n\nFlags & Water:\nFlags will be provided\nIf you have large bike flags\, please bring them.\nWater will be provided.\n\n\n\nSubmitted By: Lisa Menard \nPosition: Texas Ride Captain \n\nNote: You do not have to own/ride a motorcycle or be a veteran to join\, and membership is Free. The only requirement is RESPECT! To subscribe to receive mission notices\, log into the National Site and click on the Members tab at the top. Select the Subscribe to PGR Missions option.\n Print This Page
URL:https://www.patriotguard.org/mission/orel-douglass-jr/
CATEGORIES:Honor Mission
END:VEVENT
END:VCALENDAR