BEGIN:VCALENDAR
VERSION:2.0
PRODID:-//Patriot Guard Riders - ECPv5.3.2.1//NONSGML v1.0//EN
CALSCALE:GREGORIAN
METHOD:PUBLISH
X-WR-CALNAME:Patriot Guard Riders
X-ORIGINAL-URL:https://www.patriotguard.org
X-WR-CALDESC:Events for Patriot Guard Riders
BEGIN:VTIMEZONE
TZID:America/New_York
BEGIN:DAYLIGHT
TZOFFSETFROM:-0500
TZOFFSETTO:-0400
TZNAME:EDT
DTSTART:20190310T070000
END:DAYLIGHT
BEGIN:STANDARD
TZOFFSETFROM:-0400
TZOFFSETTO:-0500
TZNAME:EST
DTSTART:20191103T060000
END:STANDARD
END:VTIMEZONE
BEGIN:VEVENT
DTSTART;VALUE=DATE:20190908
DTEND;VALUE=DATE:20190909
DTSTAMP:20210401T120946
CREATED:20190906T154853Z
LAST-MODIFIED:20190906T155002Z
UID:172990-1567900800-1567987199@www.patriotguard.org
SUMMARY:Operation Salmon
DESCRIPTION:HOTH Mission\nOperation Salmon\nWashougal\, Washington – 09-08-19\n\n\n\nABOUT THE MISSION: \nLadies and Gentlemen\, The Patriot Guard Riders have been asked to participate in leading an Honor ride consisting of several Veterans and who are returning from a “Veteran” fishing event. This has been organized by Veteran John Kaiser who has dedicated himself to helping Veterans and organizing others to do the same.  This day the group of Veterans will be returning from Astoria Oregon\, where they have been fishing the buoy 10 Area at the mouth of the Columbia River for Chinook salmon.  We will be meeting the group in Washougal and escorting them to the American Legion\, Washougal Post 122\, where they will be treated to a BBQ sponsored by the American Legion Post. Please Join with us as we honor these Veterans.\n\n\nPRIMARY STAGING DETAILS: 09-08-19 \nStaging Time: 2:00 pm  \nParker’s Landing\n14 S A. Street\nWashougal\, Washington 98671\n\n\nRide Captain: \nChuck Lashley\nchuck@lastruckrepair.com\n360-747-1958\n\n\nSpecial Instructions: \n2:00 PM – Staging/Sign-in\n2:15 PM – Briefing\n2:30 PM – KSU for Honor Ride NOTE: ( GROUP RIDE )\nThere will be a group ride from Kalama WA to the mission staging location.\nGroup Ride staging location: Kalama Chevron 344 NE Frontage rd.\nKalamaGroup Ride staging @ 1PM\, KSU @ 1:15\n\n\nFlags & Water:\nFlags will not be provided\nIf you have large bike flags\, please bring them.\nWater WILL NOT be provided\, please bring your own.\n\n\nSubmitted By: chuck lashley \nPosition: Washington Ride Captain \n\nNote: You do not have to own/ride a motorcycle or be a veteran to join\, and membership is Free. The only requirement is RESPECT! To subscribe to receive mission notices\, log into the National Site and click on the Members tab at the top. Select the Subscribe to PGR Missions option.\n Print This Page
URL:https://www.patriotguard.org/mission/operation-salmon/
CATEGORIES:HOTH Mission
END:VEVENT
END:VCALENDAR