BEGIN:VCALENDAR
VERSION:2.0
PRODID:-//Patriot Guard Riders - ECPv5.3.2.1//NONSGML v1.0//EN
CALSCALE:GREGORIAN
METHOD:PUBLISH
X-WR-CALNAME:Patriot Guard Riders
X-ORIGINAL-URL:https://www.patriotguard.org
X-WR-CALDESC:Events for Patriot Guard Riders
BEGIN:VTIMEZONE
TZID:America/New_York
BEGIN:DAYLIGHT
TZOFFSETFROM:-0500
TZOFFSETTO:-0400
TZNAME:EDT
DTSTART:20190310T070000
END:DAYLIGHT
BEGIN:STANDARD
TZOFFSETFROM:-0400
TZOFFSETTO:-0500
TZNAME:EST
DTSTART:20191103T060000
END:STANDARD
END:VTIMEZONE
BEGIN:VEVENT
DTSTART;VALUE=DATE:20190723
DTEND;VALUE=DATE:20190724
DTSTAMP:20210404T044602
CREATED:20190721T214529Z
LAST-MODIFIED:20190721T214529Z
UID:168430-1563840000-1563926399@www.patriotguard.org
SUMMARY:Operation Finally Home
DESCRIPTION:HOTH Mission\nOperation Finally Home\, Retired\nUSA – WoT\nBulverde\, Texas – 07-23-19\n\n\n\nABOUT THE MISSION: \nOperation Finally Home will be conducting a Key Ceremony event at 10:00 AM in the Johnson Ranch Community. The PGR will join Operation Finally Home at the staging location and escort the family to their new home.\n\n\nPRIMARY STAGING DETAILS: 07-23-19 \nStaging Time: 09:00 AM\n \nJohnson Ranch – Lennar Homes\nUS 281 and Mustang Vista\nBulverde\, Texas 78163\nMap\n\n\nRide Captain: \nMark “JMARK” Wilkes\njmarkw@gvtc.com\n\n\nSpecial Instructions: \nStaging: 09:00 AM\nBriefing: 09:15 AM\nCeremony : 10:00 AM\nLocation will be announced during the briefing.Flags: Danette “Dani” O’Hara\n\n\nFlags & Water:\nFlags will be provided\nIf you have large bike flags\, please bring them.\nWater will be provided.\n\n\n\nSubmitted By: Lisa Menard \nPosition: Texas Ride Captain \n\nNote: You do not have to own/ride a motorcycle or be a veteran to join\, and membership is Free. The only requirement is RESPECT! To subscribe to receive mission notices\, log into the National Site and click on the Members tab at the top. Select the Subscribe to PGR Missions option.\n Print This Page
URL:https://www.patriotguard.org/mission/operation-finally-home-2/
CATEGORIES:HOTH Mission
END:VEVENT
END:VCALENDAR