BEGIN:VCALENDAR
VERSION:2.0
PRODID:-//Patriot Guard Riders - ECPv5.3.2.1//NONSGML v1.0//EN
CALSCALE:GREGORIAN
METHOD:PUBLISH
X-WR-CALNAME:Patriot Guard Riders
X-ORIGINAL-URL:https://www.patriotguard.org
X-WR-CALDESC:Events for Patriot Guard Riders
BEGIN:VTIMEZONE
TZID:America/New_York
BEGIN:DAYLIGHT
TZOFFSETFROM:-0500
TZOFFSETTO:-0400
TZNAME:EDT
DTSTART:20190310T070000
END:DAYLIGHT
BEGIN:STANDARD
TZOFFSETFROM:-0400
TZOFFSETTO:-0500
TZNAME:EST
DTSTART:20191103T060000
END:STANDARD
END:VTIMEZONE
BEGIN:VEVENT
DTSTART;VALUE=DATE:20190927
DTEND;VALUE=DATE:20190928
DTSTAMP:20210401T020351
CREATED:20190916T020459Z
LAST-MODIFIED:20190916T020459Z
UID:173872-1569542400-1569628799@www.patriotguard.org
SUMMARY:Omar "Chip" Quintanilla
DESCRIPTION:Honor Mission\nOmar “Chip” Quintanilla\, Veteran\nUSA –\nHolly\, Michigan – 09-27-19\n\n\n\nABOUT THE MISSION: \nThe family of SP4/E-4 Omar “Chip” Quintanilla has invited the Patriot Guard Riders to stand a silent flag line in honor of his service to our country. SP4 Quintanilla served in the United States Army and was awarded the National Defense Service Medal and Expert M-14 Rifle. He was assigned to CO C 3D Bn 37th Armor USAREUR. He retired from Buick and was a proud member of UAW local #599. He was a member of the Eagles Club. He is survived by 3 daughters and 2 sons.\nObituary\n\n\nPRIMARY STAGING DETAILS: 09-27-19 \nStaging Time: 11:50 AM\n \nHolly McDonald’s\n15187 N. Holly Rd\nHolly\, Michigan 48442\nMap\n\n\nRide Captain: \n“Viper”\n586-873-5096\nkta422@hotmail.com\n\n\nSpecial Instructions: \nBrief: 12:20 PM\nKSU: 12:35 PM\nService 1:00 PM\nPlease bring your 3′ X 5′ American Flags to stand for SP4 Quintanilla.\n\n\nFlags & Water:\nFlags will not be provided\nLarge Bike Flags will NOT be needed.\nWater WILL NOT be provided\, please bring your own.\n\n\n\nSubmitted By: Kenneth Talant \nPosition: Michigan Assistant State Captain \n\nNote: You do not have to own/ride a motorcycle or be a veteran to join\, and membership is Free. The only requirement is RESPECT! To subscribe to receive mission notices\, log into the National Site and click on the Members tab at the top. Select the Subscribe to PGR Missions option.\n Print This Page
URL:https://www.patriotguard.org/mission/omar-chip-quintanilla/
CATEGORIES:Honor Mission
END:VEVENT
END:VCALENDAR